BEGIN:VCALENDAR
VERSION:2.0
PRODID:-// - ECPv6.15.20//NONSGML v1.0//EN
CALSCALE:GREGORIAN
METHOD:PUBLISH
X-ORIGINAL-URL:https://selectivecity.co.za
X-WR-CALDESC:Events for 
REFRESH-INTERVAL;VALUE=DURATION:PT1H
X-Robots-Tag:noindex
X-PUBLISHED-TTL:PT1H
BEGIN:VTIMEZONE
TZID:UTC
BEGIN:STANDARD
TZOFFSETFROM:+0000
TZOFFSETTO:+0000
TZNAME:UTC
DTSTART:20250101T000000
END:STANDARD
END:VTIMEZONE
BEGIN:VEVENT
DTSTART;TZID=UTC:20260201T150000
DTEND;TZID=UTC:20260201T220000
DTSTAMP:20260421T170531
CREATED:20260120T195656Z
LAST-MODIFIED:20260127T195754Z
UID:3064-1769958000-1769983200@selectivecity.co.za
SUMMARY:Selective Live Launch Party and Album listening session by Internet Athi
DESCRIPTION:Selective Live is Back. We’re reopening and stepping into an exciting new chapter at our new home — the rooftop of BlackBrick Gardens Hotel. Elevated\, intimate\, and effortlessly soulful\, Selective Live returns as your go-to Sunday experience where music\, culture\, and sunset summers meet. Join us every Sunday from the 1st of February\, as we bring you live Afro-Jazz and Neo-Soul performances\, paired with carefully curated vinyl DJ sets that set the tone from sunset into the evening. Expect delicious canapés\, crafted cocktails\, and a crowd that appreciates good music and beautiful moments. Doors open at 3PM\, with live performances starting around 6PM — giving you the perfect afternoon-to-evening flow. Lounge by the rooftop pool\, sip something special\, and let the rhythm carry you through Sunday. Main act: Internet Athi with listening session and a small performance Dress code: Summer chic with a touch of white or beige. Swimwear welcome — the pool is part of the experience. This is more than an event. It’s a weekly ritual. Welcome back to Selective Live. Every Sunday from Feb 1st | Doors open 3PM #selectivelive #rooftopsundays #sundayvibes #LiveMusicExperience #afrojazz #neosoulmusic #vinylsessions #blackbrickgardens
URL:https://selectivecity.co.za/event/selective-live-launch-party-and-album-listening-session-by-internet-athi/
LOCATION:Blackbrick Gardens\, 2 Roodehek Street\, Gardens\, Cape Town\, 8001\, South Africa
ATTACH;FMTTYPE=image/png:https://selectivecity.co.za/wp-content/uploads/2026/01/INSTAGRAM-Athi3-sold-out-814X814.png
END:VEVENT
BEGIN:VEVENT
DTSTART;TZID=UTC:20260208T150000
DTEND;TZID=UTC:20260208T220000
DTSTAMP:20260421T170531
CREATED:20260120T200110Z
LAST-MODIFIED:20260127T201826Z
UID:3071-1770562800-1770588000@selectivecity.co.za
SUMMARY:Selective Live rooftop Live Music experience with Madame Freak
DESCRIPTION:Selective Live is Back. \n\n\n\nWe’re reopening and stepping into an exciting new chapter at our new home — the rooftop of BlackBrick Gardens Hotel. Elevated\, intimate\, and effortlessly soulful\, \n\n\n\nSelective Live returns as your go-to Sunday experience where music\, culture\, and sunset summers meet. \n\n\n\nJoin us every Sunday as we bring you live Afro-Jazz and Neo-Soul performances\, paired with carefully curated vinyl DJ sets that set the tone from sunset into the evening. Expect delicious canapés\, crafted cocktails\, and a crowd that appreciates good music and beautiful moments. \n\n\n\nDoors open at 3PM\, with live performances starting around 6PM — giving you the perfect afternoon-to-evening flow. Lounge by the rooftop pool\, sip something special\, and let the rhythm carry you through Sunday. \n\n\n\nMain act: \n\n\n\nMadame Freak on the 8th February 2026 \n\n\n\nThe ever-evolving Madame Freak ensemble embarks on a new musical journey \n\n\n\nshowcasing the immersive Afro-art rock of singer Dhahabu. and jazz fusion \n\n\n\nsounds of Nicky Bremer on keyboards. \n\n\n\nSpearheaded by guitarist Jane Mayne and drummer Karen Rutter\, the band has \n\n\n\nexplored the muse with a range of creators through the years. \n\n\n\nAt the heart of the Madame Afrique experience lies Jane Mayne’s signature six- \n\n\n\nstring playing\, a style coloured by valve-driven sustain\, and propelled by an \n\n\n\nimpulse to radiate a shared metaphysical experience. View her Gibson Les Paul \n\n\n\nlive in action on YouTube. \n\n\n\nBehind the kit\, longtime collaborator Karen Rutter is perfectly paired to expand \n\n\n\non this experiential journey\, with groove-driven bassist Marlene Laros sitting in \n\n\n\nthe pocket in the backline. \n\n\n\nFrom bossas to ballads\, to Afro jive\, funky grooves\, and blazing fusion solos\, \n\n\n\nMadame Freak projects a simple authenticity\, facilitated by music’s ability to \n\n\n\ntranscend time and space and unite all present in an expansive\, aural heart space. \n\n\n\nLine up: \n\n\n\nVocals – Dhahabu (Qondéa Avril Mkansi) \n\n\n\nKeys – Nicky Bremer \n\n\n\nBass – Marlene Laros \n\n\n\nGuitar – Jane Mayne \n\n\n\nDrums/ flute – Karen Rutter \n\n\n\nDress code: Summer chic with a touch of white or beige. \n\n\n\nSwimwear welcome — the pool is part of the experience. \n\n\n\nThis is more than an event. \n\n\n\nIt’s a weekly ritual. \n\n\n\nWelcome back to Selective Live.
URL:https://selectivecity.co.za/event/selective-live-rooftop-live-music-experience-with-madame-freak/
LOCATION:Blackbrick Gardens\, 2 Roodehek Street\, Gardens\, Cape Town\, 8001\, South Africa
ATTACH;FMTTYPE=image/png:https://selectivecity.co.za/wp-content/uploads/2026/01/INSTAGRAM-MF-814X814-1.png
END:VEVENT
BEGIN:VEVENT
DTSTART;TZID=UTC:20260215T150000
DTEND;TZID=UTC:20260215T220000
DTSTAMP:20260421T170531
CREATED:20260126T145234Z
LAST-MODIFIED:20260127T200314Z
UID:3079-1771167600-1771192800@selectivecity.co.za
SUMMARY:Selective Live rooftop Live Music experience with Bheki Khoza
DESCRIPTION:Bheki Khoza is the well-known left handed guitarist from Umlazi\, Durban\, South Africa. In 1991 he received a Talent Award and scholarship to study music in America. He returned in 1995 from studying at the University of Hartford\, Connecticut\, with the great Jackie McClean\, on of the few living legends. \n\n\n\nSome of the musicians he held the opportunity to play with included Kenny Barron\, Hilton Ruiz\, Kirk Ligtsey\, Cecil McBee\, Virgil Jones\, Charlces Davis and Steve Davis\, who now Anarchy\, a jam club for African music\, in particular. Gigs stemming from the African connection included backing vocalist FLoxy Bee from Nigeria and Thuli Dumakude\, a singer from South Africa\, of Mabatha Fame. \n\n\n\nPrior to studying in America\, Bheki played with the African Jazz Pioneers\, Abie Cindi\, Sipho Gumede\, Winston Mankunku Ngozi\, Rene McClean\, Victor Ntoni\, Mike Makhalemala\, George Lee\, and Berry Rachabane\, among others. He also backed South Africa’s famous songbirds\, Sibongile Khumalo\, Sophic Mgina\, Dolly Rathebe\, Abigail Kubheka\, and Themi Mtshani. During this time Bheki also had his own band Thayima\, which played jazz and African music directly addressing the social conditions of the late 1980’s for this reason the band was never recorded. \n\n\n\nDoors open at 3pm and show starts at 6pm.
URL:https://selectivecity.co.za/event/selective-live-rooftop-live-music-experience-with-bheki-khoza/
LOCATION:Blackbrick Gardens\, 2 Roodehek Street\, Gardens\, Cape Town\, 8001\, South Africa
ATTACH;FMTTYPE=image/png:https://selectivecity.co.za/wp-content/uploads/2026/01/INSTAGRAM-bheki-814X814.png
END:VEVENT
BEGIN:VEVENT
DTSTART;TZID=UTC:20260222T150000
DTEND;TZID=UTC:20260222T220000
DTSTAMP:20260421T170531
CREATED:20260126T144846Z
LAST-MODIFIED:20260126T144849Z
UID:3075-1771772400-1771797600@selectivecity.co.za
SUMMARY:Selective Live rooftop Live Music experience with Deslynn Malotana
DESCRIPTION:Join us for an intimate evening of music with Deslynn Malotana as she shares original songs from her upcoming project\, alongside some of your favourite past releases. \n\n\n\nAccompanied by her talented band\, Deslynn takes you on a soulful journey through music that speaks to the heart\, mind\, and soul. Rooted in warmth\, honesty\, and depth\, Know Love is a space to listen\, feel\, and be moved. \n\n\n\nThis is soul music in its truest form\, rich\, nourishing\, and deeply felt. Come and be soul-fed. \n\n\n\nBand: \n\n\n\nEugene Ackerman – Bass \n\n\n\nEzra Smuts – Drums \n\n\n\nYvan Potts – Keys \n\n\n\nBrandon Ruiters – Trumpetconversation.
URL:https://selectivecity.co.za/event/selective-live-rooftop-live-music-experience-with-deslynn-malotana/
ATTACH;FMTTYPE=image/png:https://selectivecity.co.za/wp-content/uploads/2026/01/INSTAGRAM-des-814X814.png
END:VEVENT
BEGIN:VEVENT
DTSTART;TZID=UTC:20260222T150000
DTEND;TZID=UTC:20260222T220000
DTSTAMP:20260421T170531
CREATED:20260219T111221Z
LAST-MODIFIED:20260219T111223Z
UID:3096-1771772400-1771797600@selectivecity.co.za
SUMMARY:Selective Live rooftop DJ Music experience with Bilal Da DJ
DESCRIPTION:Join us this Sunday as we bring Bilal Da DJ from Joburg on the decks before Deslynn Malotana live performance. \n\n\n\nhttps://soundcloud.com/bilalbilibob/sweet-sangia-mixed-by-bilal-da-dj
URL:https://selectivecity.co.za/event/selective-live-rooftop-dj-music-experience-with-bilal-da-dj/
LOCATION:Blackbrick Gardens\, 2 Roodehek Street\, Gardens\, Cape Town\, 8001\, South Africa
ATTACH;FMTTYPE=image/png:https://selectivecity.co.za/wp-content/uploads/2026/02/INSTAGRAM-Bilal-814X814.png
END:VEVENT
END:VCALENDAR