BEGIN:VCALENDAR
VERSION:2.0
PRODID:-// - ECPv6.15.20//NONSGML v1.0//EN
CALSCALE:GREGORIAN
METHOD:PUBLISH
X-ORIGINAL-URL:https://selectivecity.co.za
X-WR-CALDESC:Events for 
REFRESH-INTERVAL;VALUE=DURATION:PT1H
X-Robots-Tag:noindex
X-PUBLISHED-TTL:PT1H
BEGIN:VTIMEZONE
TZID:UTC
BEGIN:STANDARD
TZOFFSETFROM:+0000
TZOFFSETTO:+0000
TZNAME:UTC
DTSTART:20240101T000000
END:STANDARD
END:VTIMEZONE
BEGIN:VEVENT
DTSTART;TZID=UTC:20251003T180000
DTEND;TZID=UTC:20251004T020000
DTSTAMP:20260421T235629
CREATED:20250910T211603Z
LAST-MODIFIED:20250910T211605Z
UID:2984-1759514400-1759543200@selectivecity.co.za
SUMMARY:Kwa Nongoma by Linda Sikhakhane & Paras “Sibalukhulu” Dlamini
DESCRIPTION:KwaNongoma: Linda Sikhakhane & Paras “Sibalukhulu” Dlamini \n\n\n\nKwaNongoma is a collaborative project between saxophonist Linda Sikhakhane and vocalist Paras “Sibalukhulu” Dlamini. This project seeks to open a sonic discourse on questions of song\, belonging and collective memory towards igniting societal values through song (ingoma). \n\n\n\nKwaNongoma will draw its repertoires from two recently released albums by these longtime collaborators: Ingoma Busuku (2025) and iLadi (2024). Consequently\, the bandstand on the evening will open space for reinforcing shared understandings and commemorative forms of communal practices. \n\n\n\nTenor: Linda Sikhakhane \n\n\n\nVocal: Paras “Sibalukhulu” Dlamini \n\n\n\nDouble Bass: Dalisu Ndlazi \n\n\n\nDrums: Damian Kemineth \n\n\n\nSpecial guest: \n\n\n\nCameron Ward \n\n\n\n“Through his searching\, saxophonist\, composer and Blue Note artist Linda Sikhakhane \n\n\n\nepitomises the vibrant evolution of South Africa’s jazz landscape. The Umlazi-born and \n\n\n\nKwaNongoma descendant musician establishes a conversation between the contemporary \n\n\n\nand traditional\, homegrown and global while steeping his ruminations on the personal\, \n\n\n\nsocietal\, spiritual and cultural in rich tones. Owing inspiration to greats such as John \n\n\n\nColtrane\, Bheki Mseleku\, Winston Mankunku Ngozi\, Nduduzo Makhathini\, \n\n\n\nSikhakhane’s style is informed by the interplay between the metropolitan and the folkloric. \n\n\n\nHis offerings deftly align these sonic influences with theoretical concepts drawn from both \n\n\n\nhereditary customs and academic abstraction” \n\n\n\n“Siphamandla Dlamini better known as ‘Paras Sibalukhulu \n\n\n\n‘’Dlamini’ in the music scene\, born and raised in kwamashu and ulundi finished his \n\n\n\nsecondary schooling at Masibumbane High school\, uLundi. He discovered \n\n\n\nhis musical talent whilst growing up as a church boy in uLundi\, when he \n\n\n\nlearnt how to play drums. When he took a break from music he focused \n\n\n\nhis energies on sports (valleyball and soccer) which he played at district \n\n\n\nlevel” \n\n\n\nDoors open at 6pm show starts at 8pm
URL:https://selectivecity.co.za/event/kwa-nongoma-by-linda-sikhakhane-paras-sibalukhulu-dlamini/
LOCATION:Selective Live\, 189 Buitengragt\, Cape Town\, 8001\, South Africa
ATTACH;FMTTYPE=image/png:https://selectivecity.co.za/wp-content/uploads/2025/09/INSTAGRAM-nongoma-814X814.png
END:VEVENT
BEGIN:VEVENT
DTSTART;TZID=UTC:20251004T133000
DTEND;TZID=UTC:20251004T180000
DTSTAMP:20260421T235629
CREATED:20250925T100742Z
LAST-MODIFIED:20251003T120955Z
UID:3007-1759584600-1759600800@selectivecity.co.za
SUMMARY:Springboks Vs Pumas
DESCRIPTION:🏉 Rugby Game Screening: Springboks vs Argentina 🇿🇦🇦🇷 \n\n\n\nJoin us for an electric atmosphere as we screen the epic clash between the Springboks and Argentina live! Expect big hits\, world-class plays\, and all the intensity of test match rugby — surrounded by fellow fans. \n\n\n\n📅 Date: 04 Oct 2025🕖 Kick-off: 5pm doors open at 4pm📍 Venue: Selective Live🎟️ Entry: Free (Book table recommended) \n\n\n\nAfter the match live music and  \n\n\n\n🍻 Food & drink specials🎉 Giveaways📺 Big screen + full surround sound \n\n\n\nWhether you bleed green and gold or back the Pumas\, this is the place to be for all the action. Wear your jersey\, bring your voice\, and let’s make it a night to remember!
URL:https://selectivecity.co.za/event/springboks-vs-pumas/
LOCATION:Selective Live\, 189 Buitengragt\, Cape Town\, 8001\, South Africa
ATTACH;FMTTYPE=image/png:https://selectivecity.co.za/wp-content/uploads/2025/09/INSTAGRAM-rugby-814X814-1.png
END:VEVENT
BEGIN:VEVENT
DTSTART;TZID=UTC:20251004T180000
DTEND;TZID=UTC:20251005T190000
DTSTAMP:20260421T235629
CREATED:20250410T213801Z
LAST-MODIFIED:20251005T153801Z
UID:2451-1759600800-1759690800@selectivecity.co.za
SUMMARY:DJ Mighty's Strictly Vinyl
DESCRIPTION:Join us as we blast jams on wax…. The vibe dealer\, himself DJ Mighty once upon a time at Selective Live. He will be Joined by a few guest spinners from across the country! Fervently come through and be enchanted by the sonic grooves and meditations. “Legendary night to come”. \n\n\n\nDate: 4th October | Saturday|Time: Doors Open at 6pm | DJs Starts – 8pm
URL:https://selectivecity.co.za/event/dj-mightys-birthday-bash-vinyl-meditations/
LOCATION:Selective Live\, 189 Buitengragt\, Cape Town\, 8001\, South Africa
ATTACH;FMTTYPE=image/png:https://selectivecity.co.za/wp-content/uploads/2025/04/INSTAGRAM-Mighty-814X814-5.png
END:VEVENT
BEGIN:VEVENT
DTSTART;TZID=UTC:20251009T180000
DTEND;TZID=UTC:20251009T230000
DTSTAMP:20260421T235629
CREATED:20250708T200032Z
LAST-MODIFIED:20251006T113630Z
UID:2791-1760032800-1760050800@selectivecity.co.za
SUMMARY:Acoustic Sessions with Unathi Lu
DESCRIPTION:Join us for an evening with the soulful sounds of Unathi Lu\, one last show of a rising star in the singer-songwriter scene\, this Thursday\, October 9th at Selective Live 189n Buitengracht street\, Gardens. \n\n\n\nWith her evocative voice and heartfelt lyrics\, Unathi brings an intimate blend of acoustic guitar melodies and powerful storytelling to the stage. Whether you’re a longtime fan or discovering her for the first time\, this is your chance to experience her music in its raw\, authentic form. \n\n\n\nDon’t miss a night of stripped-down sound and honest emotion from one of the most compelling voices in local music. Come early\, grab a drink\, and settle in for a moving live performance. \n\n\n\nTicket link in bio!!! \n\n\n\nDoors open at 6pm and show starts at 8pm. \n\n\n\nFor more contact info@selectivehearing.co.z
URL:https://selectivecity.co.za/event/acoustic-sessions-with-unathi-lu/
LOCATION:Selective Live\, 189 Buitengragt\, Cape Town\, 8001\, South Africa
ATTACH;FMTTYPE=image/png:https://selectivecity.co.za/wp-content/uploads/2025/07/INSTAGRAM-Unathi-814X814-1.png
END:VEVENT
BEGIN:VEVENT
DTSTART;TZID=UTC:20251010T180000
DTEND;TZID=UTC:20251011T020000
DTSTAMP:20260421T235629
CREATED:20250910T212034Z
LAST-MODIFIED:20250910T212222Z
UID:2988-1760119200-1760148000@selectivecity.co.za
SUMMARY:Def Eff – Family Matters
DESCRIPTION:It’s been a while since Def Eff touched the stage he once called home. After countless performances across the city\, he’s making a heartfelt return to Selective Live — the venue where many of his live journeys took root. \n\n\n\nThis night isn’t just another show; it’s a homecoming. Expect the familiar energy\, the songs you already love\, and a taste of what’s new. It’s about family\, connection\, and sharing music that brings us all together. \n\n\n\nWe call this one Def Eff – Family Matters. \n\n\n\nBring a friend along\, introduce them to the vibe you’ve been part of\, and let’s make this night one to remember. \n\n\n\nDJ: tbc \n\n\n\n10th Friday | Selective Live | Doors Open – 18h00 |Show – 20h00| Ticket Entry – Early Bird – R120. Normal | Saggy Stone HappyHour- 18h00-19h00.
URL:https://selectivecity.co.za/event/def-eff-family-matters/
LOCATION:Selective Live\, 189 Buitengragt\, Cape Town\, 8001\, South Africa
ATTACH;FMTTYPE=image/png:https://selectivecity.co.za/wp-content/uploads/2025/09/INSTAGRAM-Def-Eff-814X814.png
END:VEVENT
BEGIN:VEVENT
DTSTART;TZID=UTC:20251011T180000
DTEND;TZID=UTC:20251011T233000
DTSTAMP:20260421T235629
CREATED:20250910T204837Z
LAST-MODIFIED:20251003T125626Z
UID:2974-1760205600-1760225400@selectivecity.co.za
SUMMARY:Bheki Khoza
DESCRIPTION:Bheki Khoza is the well-known left handed guitarist from Umlazi\, Durban\, South Africa. In 1991 he received a Talent Award and scholarship to study music in America. He returned in 1995 from studying at the University of Hartford\, Connecticut\, with the great Jackie McClean\, on of the few living legends. \n\n\n\nSome of the musicians he held the opportunity to play with included Kenny Barron\, Hilton Ruiz\, Kirk Ligtsey\, Cecil McBee\, Virgil Jones\, Charlces Davis and Steve Davis\, who now Anarchy\, a jam club for African music\, in particular. Gigs stemming from the African connection included backing vocalist FLoxy Bee from Nigeria and Thuli Dumakude\, a singer from South Africa\, of Mabatha Fame. \n\n\n\nPrior to studying in America\, Bheki played with the African Jazz Pioneers\, Abie Cindi\, Sipho Gumede\, Winston Mankunku Ngozi\, Rene McClean\, Victor Ntoni\, Mike Makhalemala\, George Lee\, and Berry Rachabane\, among others. He also backed South Africa’s famous songbirds\, Sibongile Khumalo\, Sophic Mgina\, Dolly Rathebe\, Abigail Kubheka\, and Themi Mtshani. During this time Bheki also had his own band Thayima\, which played jazz and African music directly addressing the social conditions of the late 1980’s for this reason the band was never recorded. \n\n\n\nDoors open at 6pm and show starts at 8pm.
URL:https://selectivecity.co.za/event/bheki-khoza/
LOCATION:Selective Live\, 189 Buitengragt\, Cape Town\, 8001\, South Africa
ATTACH;FMTTYPE=image/png:https://selectivecity.co.za/wp-content/uploads/2025/09/INSTAGRAM-Bheki-814X814-3.png
END:VEVENT
BEGIN:VEVENT
DTSTART;TZID=UTC:20251018T150000
DTEND;TZID=UTC:20251019T013000
DTSTAMP:20260421T235629
CREATED:20251018T084628Z
LAST-MODIFIED:20251018T084631Z
UID:3044-1760799600-1760837400@selectivecity.co.za
SUMMARY:UK Underground NIGHT
DESCRIPTION:UK Underground NIGHT – THIS Saturday! \n\n\n\nGet ready for a night of raw beats\, real bars\, and pure UK energy! This Saturday\, we’re bringing the heart of the UK music scene straight to the stage with a heavy lineup of local DJ\, underground sounds\, and non-stop good vibes. \n\n\n\nExpect everything from grime to drill\, conscious rap to boom bap\, guest DJs\, and an atmosphere that’s all about celebrating UK culture. \n\n\n\nDJ Lineup: \n\n\n\nAlvhinator \n\n\n\nBro Slovo \n\n\n\nMafiana \n\n\n\nTigerlilly \n\n\n\nDoors open: 3 PM | Braai between 4-7pm Vibes ’til late \n\n\n\nSelective Live \n\n\n\nBraai platters for sale \n\n\n\nWhether you’re a day-one head or just discovering the scene\, this is the place to be. Tell your people\, rep your ends\, and come through for a proper day of UK music party.
URL:https://selectivecity.co.za/event/uk-underground-night/
LOCATION:Selective Live\, 189 Buitengragt\, Cape Town\, 8001\, South Africa
ATTACH;FMTTYPE=image/png:https://selectivecity.co.za/wp-content/uploads/2025/10/INSTAGRAM-uk-814X814.png
END:VEVENT
BEGIN:VEVENT
DTSTART;TZID=UTC:20251018T160000
DTEND;TZID=UTC:20251018T200000
DTSTAMP:20260421T235629
CREATED:20251018T085154Z
LAST-MODIFIED:20251018T085156Z
UID:3048-1760803200-1760817600@selectivecity.co.za
SUMMARY:D’Angelo is a legend
DESCRIPTION:We’ve lost a piece of our hearts with the passing of D’Angelo. His music carried the essence of soul. Honest\, raw\, and timeless. The global wave of tributes reminds us of what we already knew: D’Angelo is a legend. This loss is felt collectively. Let’s come together to reflect\, listen\, and make in his spirit. \n\n\n\nCape Town: Album listening from 4pmJam from 8pm (bring your instruments)Free entrance\, @selective_live \n\n\n\nJoburg: A live jam for D’angelo by Abzu X Lerato Lichaba\, a D’angelo inspired dj set By Bilal Da Dj\, on Thursday the 23rd from 7pm – 9pm entrance R50 very limited space first come first serve @sowetogallery7533 LETS CELEBRATE THE MUSIC THAT TOUCHED US AND IMPACTED US IN DIFFERENT WAYS
URL:https://selectivecity.co.za/event/dangelo-is-a-legend/
LOCATION:Selective Live\, 189 Buitengragt\, Cape Town\, 8001\, South Africa
ATTACH;FMTTYPE=image/png:https://selectivecity.co.za/wp-content/uploads/2025/10/INSTAGRAM-d-angelo-814X814.png
END:VEVENT
BEGIN:VEVENT
DTSTART;TZID=UTC:20251019T200000
DTEND;TZID=UTC:20251020T010000
DTSTAMP:20260421T235629
CREATED:20241226T205525Z
LAST-MODIFIED:20251015T162016Z
UID:2012-1760904000-1760922000@selectivecity.co.za
SUMMARY:The Soulective Jam Session
DESCRIPTION:Jam session hosted by incredible local musicians and celebrating 7years of Selective Live.. selective hearing DJs!!!! Free entry!!. #jamsession #free Doors open at 6pm!!
URL:https://selectivecity.co.za/event/soulective-jam-session-2/
LOCATION:Selective Live\, 189 Buitengragt\, Cape Town\, 8001\, South Africa
ATTACH;FMTTYPE=image/png:https://selectivecity.co.za/wp-content/uploads/2024/12/INSTAGRAM-the-soulective-jam-1-session-814X814.png
END:VEVENT
BEGIN:VEVENT
DTSTART;TZID=UTC:20251022T180000
DTEND;TZID=UTC:20251022T233000
DTSTAMP:20260421T235629
CREATED:20251015T161706Z
LAST-MODIFIED:20251015T162149Z
UID:3031-1761156000-1761175800@selectivecity.co.za
SUMMARY:Elise Olsen and Marie Lemme (Norway) at Selective Live
DESCRIPTION:On October 22\, join Elise Olsen and Marie Lemme at Selective Live for a cozy night of songs\, stories\, and all the feels. \n\n\n\nElise brings her dreamy\, emotional pop straight from Norway (with a detour through Cape Town)\, and Marie’s serving rich vocals and folk-pop warmth with a side of sass and soul. Expect music to make you laugh\, cry\, and maybe call your ex. \n\n\n\nThink: Olivia Dean meets Joni Mitchell. Imogen Heap vibes with a bit of Melody Gardot magic. Two voices\, one stage — come feel it with us!! \n\n\n\nElise Olsen is a Norwegian singer-songwriter known for her emotionally rich storytelling and evolving sound. In 2023\, she spent a semester in Cape Town\, where she immersed herself in the local music scene with performances at Selective\, The Blue Room\, and The Commons. A recording from her live set at The Blue Room was later broadcast on Fine Music Radio\, introducing her original music to a wider audience. \n\n\n\nFollowing her time in South Africa\, Elise released her debut album\, Love as I Know It\, which was playlisted on Norway’s national radio station P3. Her music is inspired by artists like Olivia Dean\, Imogen Heap\, and Elton John—blending vulnerability\, melodic depth\, and lyrical storytelling into a sound uniquely her own. \n\n\n\nInstagram @Eliseolseen \n\n\n\nMarie Lemme delivers warm\, heartfelt folk/pop music with a powerful lyrical core.With her uniquely rich\, deep-toned voice and a keen ear for memorable melodies\, Lemme crafts songs that stir the soul—inviting calm\, sparking laughter\, and touching on bittersweet emotions. Inspired by legends like Joni Mitchell and Melody Gardot\, her music reflects both a deep connection to the singer-songwriter tradition and the diverse musical influences gained through her childhood and music education at the Norwegian Academy of Music \n\n\n\nInstagram: @Marieflemme \n\n\n\nDate: 22 OCTOBER | Wednesday |Time: Doors Open at 6pm | Show – 8pm | \n\n\n\nVenue: Selective Live 189 Buitengracht Street
URL:https://selectivecity.co.za/event/elise-olsen-and-marie-lemme-norway-at-selective-live/
ATTACH;FMTTYPE=image/png:https://selectivecity.co.za/wp-content/uploads/2025/10/INSTAGRAM-Elise-814X814.png
END:VEVENT
END:VCALENDAR