BEGIN:VCALENDAR
VERSION:2.0
PRODID:-// - ECPv6.15.20//NONSGML v1.0//EN
CALSCALE:GREGORIAN
METHOD:PUBLISH
X-ORIGINAL-URL:https://selectivecity.co.za
X-WR-CALDESC:Events for 
REFRESH-INTERVAL;VALUE=DURATION:PT1H
X-Robots-Tag:noindex
X-PUBLISHED-TTL:PT1H
BEGIN:VTIMEZONE
TZID:UTC
BEGIN:STANDARD
TZOFFSETFROM:+0000
TZOFFSETTO:+0000
TZNAME:UTC
DTSTART:20240101T000000
END:STANDARD
END:VTIMEZONE
BEGIN:VEVENT
DTSTART;TZID=UTC:20250904T180000
DTEND;TZID=UTC:20250905T020000
DTSTAMP:20260422T014216
CREATED:20250827T112620Z
LAST-MODIFIED:20250829T062357Z
UID:2948-1757008800-1757037600@selectivecity.co.za
SUMMARY:The BodyRock Block Party
DESCRIPTION:The Body Rock is a homage to the Block Party era of music that birthed the Hip Hop culture.As a DJ collective firmly rooted in turntablism we seek to inspire and surprise our crowds with funky Hip Hop based rare grooves sprinkled with turntablist magic \n\n\n\nPull in this coming First Thursday!!!
URL:https://selectivecity.co.za/event/the-bodyrock-block-party/
LOCATION:Selective Live\, 189 Buitengragt\, Cape Town\, 8001\, South Africa
ATTACH;FMTTYPE=image/png:https://selectivecity.co.za/wp-content/uploads/2025/08/INSTAGRAM-Bodyrock-814X814.png
END:VEVENT
BEGIN:VEVENT
DTSTART;TZID=UTC:20250905T200000
DTEND;TZID=UTC:20250906T020000
DTSTAMP:20260422T014216
CREATED:20250901T143021Z
LAST-MODIFIED:20250901T143023Z
UID:2952-1757102400-1757124000@selectivecity.co.za
SUMMARY:High Fidelity soulsessions
DESCRIPTION:“Different strokes for house folks” \n\n\n\nHigh Fidelity Soul Food Sessions Vol. 15 takes you on an unforgettable ride through the dynamic landscape of house music. Featuring a stellar lineup of seasoned house artisans\, including special guests Josh.dlm and Ndo-c\, this event showcases the craftsmanship of timeless vinyl selections alongside innovative digital beats. Immerse yourself in a seamless blend of classic influences and modern creativity\, delivered through infectious rhythms\, diverse sounds\, and electrifying energy. Prepare for a night that will uplift your spirit and get your feet moving. \n\n\n\nLine up: \n\n\n\nIktomi \n\n\n\nJosh.dlm \n\n\n\nNdo-C \n\n\n\nNeil Gain \n\n\n\nInstagram info: \n\n\n\n\nhttps://www.instagram.com/highfidelity.soulfood.sessions\n\n\n\n\n\nhttps://www.instagram.com/josh.dlm\n\n\n\n\n\nhttps://www.instagram.com/dj_ndo_c\n\n\n\n\n\nhttps://www.instagram.com/neil__gain\n\n\n\n\n\nhttps://www.instagram.com/djmattnoir\n\n\n\n\nR100 at the door \n\n\n\nNo under 21s R.O.A.R. \n\n\n\nDrink responsibly!
URL:https://selectivecity.co.za/event/high-fidelity-soulsessions/
ATTACH;FMTTYPE=image/png:https://selectivecity.co.za/wp-content/uploads/2025/09/INSTAGRAM-HF-814X814.png
END:VEVENT
BEGIN:VEVENT
DTSTART;TZID=UTC:20250906T180000
DTEND;TZID=UTC:20250906T220000
DTSTAMP:20260422T014216
CREATED:20250902T070753Z
LAST-MODIFIED:20250902T070755Z
UID:2960-1757181600-1757196000@selectivecity.co.za
SUMMARY:Conversation with Deslynn Malotana
DESCRIPTION:Conversations With Deslynn Malotana is more than a show\, it’s an intimate space where music and story meet. You’re invited to lean in\, listen deeply\, breathe and feel the heart behind every note. Deslynn opens the door to her world\, weaving in personal reflections\, lived experiences\, and the moments that shape her artistry. \n\n\n\nThis is soul music in its truest form\, rich\, warm\, and nourishing. Prepare to be soul-fed\, as you journey through music not just as entertainment\, but as a living\, breathing conversation. \n\n\n\nDoors open at 6pm show starts at 8pm
URL:https://selectivecity.co.za/event/conversation-with-deslynn-malotana/
LOCATION:Selective Live\, 189 Buitengragt\, Cape Town\, 8001\, South Africa
ATTACH;FMTTYPE=image/png:https://selectivecity.co.za/wp-content/uploads/2025/09/INSTAGRAM-Des-814X814.png
END:VEVENT
BEGIN:VEVENT
DTSTART;TZID=UTC:20250911T180000
DTEND;TZID=UTC:20250911T230000
DTSTAMP:20260422T014216
CREATED:20250908T144653Z
LAST-MODIFIED:20250908T144654Z
UID:2966-1757613600-1757631600@selectivecity.co.za
SUMMARY:Carla Conrad
DESCRIPTION:Join Carla Conrad for an electrifying night of quirky singer songwriter melodies and indie-rock at Selective Live! Fresh off a hit single with 18K Spotify streams in the first week and opening for Jesse Clegg on his Hurricane Tour\, Carla brings her soulful vocals\, and dynamic story- telling with guitarist Rob Watts to Cape Town’s intimate venue Selective Live. \n\n\n\nDoors open at 6pm show starts at 8pm
URL:https://selectivecity.co.za/event/carla-conrad/
LOCATION:Selective Live\, 189 Buitengragt\, Cape Town\, 8001\, South Africa
ATTACH;FMTTYPE=image/png:https://selectivecity.co.za/wp-content/uploads/2025/09/INSTAGRAM-Carla-Conrad2-814X814.png
END:VEVENT
BEGIN:VEVENT
DTSTART;TZID=UTC:20250917T180000
DTEND;TZID=UTC:20250917T230000
DTSTAMP:20260422T014216
CREATED:20250910T204208Z
LAST-MODIFIED:20250910T204209Z
UID:2970-1758132000-1758150000@selectivecity.co.za
SUMMARY:Dan Gregory and Robbie Perrott
DESCRIPTION:Best buds Dan Gregory and Robbie Perrott team up once again for an evening of song. \n\n\n\nEach will deliver a short solo set followed by a duo in which they will perform some unreleased songs such as “Bublé Bath” and “Always Bout 2 Bust”. \n\n\n\nIt’s going to be silly and sincere. Silky and earthy. Milky and honey-y. We’d love to see you there. \n\n\n\ndoors open at 6pm and Show starts at 8pm.
URL:https://selectivecity.co.za/event/dan-gregory-and-robbie-perrott/
LOCATION:Selective Live\, 189 Buitengragt\, Cape Town\, 8001\, South Africa
ATTACH;FMTTYPE=image/png:https://selectivecity.co.za/wp-content/uploads/2025/09/INSTAGRAM-Robbie-814X814.png
END:VEVENT
BEGIN:VEVENT
DTSTART;TZID=UTC:20250919T180000
DTEND;TZID=UTC:20250920T020000
DTSTAMP:20260422T014216
CREATED:20250910T210530Z
LAST-MODIFIED:20250910T210930Z
UID:2978-1758304800-1758333600@selectivecity.co.za
SUMMARY:Voices and Verses
DESCRIPTION:We have emerging artists from around the country to have them heard! From poets\, to artists\, everyone is welcome! Each province selected will have their own chance to shine have their spotlight. \n\n\n\nSelective Live is now hosting these artists live in Cape Town!!!
URL:https://selectivecity.co.za/event/voices-and-verses/
LOCATION:Selective Live\, 189 Buitengragt\, Cape Town\, 8001\, South Africa
ATTACH;FMTTYPE=image/png:https://selectivecity.co.za/wp-content/uploads/2025/09/INSTAGRAM-VV-814X814.png
END:VEVENT
BEGIN:VEVENT
DTSTART;TZID=UTC:20250920T180000
DTEND;TZID=UTC:20250920T230000
DTSTAMP:20260422T014216
CREATED:20250709T055526Z
LAST-MODIFIED:20250709T055528Z
UID:2812-1758391200-1758409200@selectivecity.co.za
SUMMARY:SIKI JO-AN Presents "The Intimate concert with the African queen" at Selective Live
DESCRIPTION:The 3rd annual ‘Intimate Concert With The African Queen’ is a series of concerts where Siki Jo-An travels in small venues across South Africa. \n\n\n\nSiki Jo-An\, is a multi-talented artist hailing from Kwa-Zakhele\, South Africa and now based in Johannesburg. Siki Jo-An is known from the reality talent TV show\, The Voice South Africa where she sang The Click song by Mirriam Makeba for her blind audition. Siki Jo-An is a versatile singer who\, plays guitar and piano. \n\n\n\nSiki Jo-An will perform live in Cape Town at Selective Live on the 20th September 2025\, where she will transport you to an imaginable world of beauty as she treats you with Xhosa songs and music from her album “Chapter 30” which is a window into Siki Jo-An’s soul\, some popular English Jazz standards\, and a touch of Bossa-nova and Samba Portuguese music that she was introduced to\, during her previous tour in Brazil. \n\n\n\nThis is a musical experience you do not want to miss. Buy your tickets now! \n\n\n\n—– \n\n\n\nLink to her album \n\n\n\n\nhttps://distrokid.com/hyperfollow/sikijoan/chapter-30\n\n\n\n\nLink to her most popular Youtube Video. \n\n\n\n\nhttps://distrokid.com/hyperfollow/sikijoan/chapter-30\n\n\n\n\nDoors Open at 6pm and show starts at 8pm \n\n\n\ninfo@selectivehearing.co.za
URL:https://selectivecity.co.za/event/siki-jo-an-presents-the-intimate-concert-with-the-african-queen-at-selective-live/
LOCATION:Selective Live\, 189 Buitengragt\, Cape Town\, 8001\, South Africa
ATTACH;FMTTYPE=image/png:https://selectivecity.co.za/wp-content/uploads/2025/07/INSTAGRAM-Siki-4-814X814.png
END:VEVENT
BEGIN:VEVENT
DTSTART;TZID=UTC:20250921T170000
DTEND;TZID=UTC:20250921T210000
DTSTAMP:20260422T014216
CREATED:20250813T082327Z
LAST-MODIFIED:20250813T082328Z
UID:2921-1758474000-1758488400@selectivecity.co.za
SUMMARY:Joliza Bhacasoul at Selective Live
DESCRIPTION:Thandikhaya Magayiyana\, stage name Joliza Bhacasoul\, born on the 30th August 1991 in Gqeberha is a singer-songwriter with \n\n\n\nstrong family roots from Emawusheni Village KwaBhaca\, formerly known as Mount Frere in the Old Transkei Homeland. He \n\n\n\nhas spent years honing his craft to produce his Bhacasoul sound which integrates his Bhaca heritage sounds\, igwijo and \n\n\n\ncontemporary musical elements. He started experimenting with music in 2005 and since then he has been composing and \n\n\n\nindependently releasing his own music from locally produced singles\, EPs and albums some of which has been played on \n\n\n\nnational radio stations such as Radio 2000\, Umhlobo Wenene FM and TruFM and on local radio stations like KQFM and \n\n\n\nBayFM.. Joliza released his first commercial project titled“Bhacasoul Experience” on the 5th of May 2023. A 5– song EP \n\n\n\ndistributed through Platoon. Although his music reflects some elements of Afro soul\, jazz and maskandi\, Joliza calls his music \n\n\n\nBhaca soul music\, a genre which leans more on traditional Bhaca rhythm elements of“ukucwiya” (spiritual singing)\,“ukuvalela” \n\n\n\n(spiritual humming) and“ukusina” (spiritual dancing).
URL:https://selectivecity.co.za/event/joliza-bhacasoul-at-selective-live/
LOCATION:Selective Live\, 189 Buitengragt\, Cape Town\, 8001\, South Africa
ATTACH;FMTTYPE=image/png:https://selectivecity.co.za/wp-content/uploads/2025/08/INSTAGRAM-Joliza-814X814.png
END:VEVENT
BEGIN:VEVENT
DTSTART;TZID=UTC:20250925T180000
DTEND;TZID=UTC:20250926T190000
DTSTAMP:20260422T014216
CREATED:20250423T122711Z
LAST-MODIFIED:20250925T073855Z
UID:2494-1758823200-1758913200@selectivecity.co.za
SUMMARY:Open Decks and Jam session
DESCRIPTION:**Calling All DJs\, Musicians\, Singers and Rappers!** \n\n\n\nThis Thursday night\, the stage and decks are open to you!  Whether you specialize in house\, hip-hop\, jazz\, or anything in between\, we welcome you to showcase your style. \n\n\n\nWe’re hosting **open decks & open mic session** on a **first-come\, first-served** basis—so come early\, come ready. Musicians\, bring your instruments for a plug-and-play jam session. Let’s create something unforgettable together. \n\n\n\nEnjoy drink specials throughout the night and an incredible atmosphere filled with live creativity. \n\n\n\n**See you Thursday!** 
URL:https://selectivecity.co.za/event/open-decks-and-jam-session/
LOCATION:Selective Live\, 189 Buitengragt\, Cape Town\, 8001\, South Africa
ATTACH;FMTTYPE=image/png:https://selectivecity.co.za/wp-content/uploads/2025/04/INSTAGRAM-Open-mic-814X814-1.png
END:VEVENT
BEGIN:VEVENT
DTSTART;TZID=UTC:20250927T200000
DTEND;TZID=UTC:20250928T020000
DTSTAMP:20260422T014216
CREATED:20250925T100536Z
LAST-MODIFIED:20250925T100538Z
UID:3002-1759003200-1759024800@selectivecity.co.za
SUMMARY:Tigerlilly and Rigby Ranks
DESCRIPTION:🏉 Rugby Game Screening: Springboks vs Argentina 🇿🇦🇦🇷 \n\n\n\nJoin us for an electric atmosphere as we screen the epic clash between the Springboks and Argentina live! Expect big hits\, world-class plays\, and all the intensity of test match rugby — surrounded by fellow fans. \n\n\n\n📅 Date: 27 September 2025🕖 Kick-off: 5pm doors open at 4pm📍 Venue: Selective Live🎟️ Entry: Free (Book table for rugby recommended) \n\n\n\nAfter the match Marimba band then followed by Dj Tigerlilly and Rigby Ranks \n\n\n\n🍻 Food & drink specials🎉 Giveaways📺 Big screen + full surround sound \n\n\n\nWhether you bleed green and gold or back the Pumas\, this is the place to be for all the action. Wear your jersey\, bring your voice\, and let’s make it a night to remember!
URL:https://selectivecity.co.za/event/tigerlilly-and-rigby-ranks/
LOCATION:Selective Live\, 189 Buitengragt\, Cape Town\, 8001\, South Africa
ATTACH;FMTTYPE=image/png:https://selectivecity.co.za/wp-content/uploads/2025/09/INSTAGRAM-DJset-27th-814X814.png
END:VEVENT
BEGIN:VEVENT
DTSTART;TZID=UTC:20250928T200000
DTEND;TZID=UTC:20250928T230000
DTSTAMP:20260422T014216
CREATED:20250928T121715Z
LAST-MODIFIED:20250928T121759Z
UID:3011-1759089600-1759100400@selectivecity.co.za
SUMMARY:Emma Konjore
DESCRIPTION:Emma Konjore\, From a small town in the south of Namibia called Keetmanshoop.I traveled to New York in 2021 to compete in the competition called IMTA where I took part in the Model and Singer Categories.And at this competition i receivedThe winner medal.I have had interviews about my singing journey and also had mutiple performances in Botswana and also headlined in Namibia. \n\n\n\nMusic has been a part of my life from a very young age as myDad’s side of the family has made music since I’ve been born.We have a famous family choir in Namibia called the Big Ks.
URL:https://selectivecity.co.za/event/emma-konjore/
LOCATION:Selective Live\, 189 Buitengragt\, Cape Town\, 8001\, South Africa
ATTACH;FMTTYPE=image/png:https://selectivecity.co.za/wp-content/uploads/2025/09/INSTAGRAM-Emma-Konjore-814X814.png
END:VEVENT
END:VCALENDAR