BEGIN:VCALENDAR
VERSION:2.0
PRODID:-// - ECPv6.15.20//NONSGML v1.0//EN
CALSCALE:GREGORIAN
METHOD:PUBLISH
X-ORIGINAL-URL:https://selectivecity.co.za
X-WR-CALDESC:Events for 
REFRESH-INTERVAL;VALUE=DURATION:PT1H
X-Robots-Tag:noindex
X-PUBLISHED-TTL:PT1H
BEGIN:VTIMEZONE
TZID:UTC
BEGIN:STANDARD
TZOFFSETFROM:+0000
TZOFFSETTO:+0000
TZNAME:UTC
DTSTART:20230101T000000
END:STANDARD
END:VTIMEZONE
BEGIN:VEVENT
DTSTART;TZID=UTC:20240615T160000
DTEND;TZID=UTC:20240615T230000
DTSTAMP:20260423T064221
CREATED:20240610T110219Z
LAST-MODIFIED:20240610T110222Z
UID:1318-1718467200-1718492400@selectivecity.co.za
SUMMARY:Jazz Party With Ndumiso Nyovane
DESCRIPTION:Ndumiso Nyovane blends jazz\, funk and South African township flavours to create an appealing\, pancultrual style. Ndumsio made his first stage appearance when he was just 14 years old as the youngest member of the Afrobeat group Varukweru. He is one of south Africa’s most in-demand studio and stage musicians. \n\n\n\nDoors open at 5pm and show starts at 8pm!!! \n\n\n\nJazz Djs to open up the set!!!!!
URL:https://selectivecity.co.za/event/jazz-party-with-ndumiso-nyovane/
LOCATION:Selective Live\, 189 Buitengragt\, Cape Town\, 8001\, South Africa
END:VEVENT
BEGIN:VEVENT
DTSTART;TZID=UTC:20240606T180000
DTEND;TZID=UTC:20240606T230000
DTSTAMP:20260423T064221
CREATED:20240602T130420Z
LAST-MODIFIED:20240602T130646Z
UID:1302-1717696800-1717714800@selectivecity.co.za
SUMMARY:Buhlebendalo at Selective Live
DESCRIPTION:Philanthropist\, storyteller\, healer\, visionary\, and a chosen vessel from the gods are a few words to describe the vocal prowess that is Buhlebendalo. Born and raised in the dusty yet prominent streets of Soweto\, she is no stranger to the stage. She has embarked on her solo career after serving as a singer and songwriter and producer with her previous group\, The Soil. \n\n\n\nHer enchanting voice has taken her across Europe\, Asia\, North\, and South America and circled back to the land of her forefathers to pay homage the originators of the music embedded in her veins.  \n\n\n\nBuhlebendalo’s debut album Chosi is a much needed conversation starter to those seeking understanding of self through spirituality.  \n\n\n\nA transcendent work of art scribed by her higher self. She has fully embraced her calling and uses her music to accompany souls from different rhelms. The stage is Buhlebendalo’s safest place. When her feet start tapping to the beat of the drum\, it is as though the heavens are clapping in jubilation. She has formulated an all female band to accompany the messaging in her music. Buhlebendalo has healing powers that need no introduction nor translation because it shoots straight to the soul awakening the spirit of Ntu. \n\n\n\nDoors open at 5pm show starts at 8pm
URL:https://selectivecity.co.za/event/buhlebendalo-at-selective-live/
LOCATION:Selective Live\, 189 Buitengragt\, Cape Town\, 8001\, South Africa
END:VEVENT
BEGIN:VEVENT
DTSTART;TZID=UTC:20240601T180000
DTEND;TZID=UTC:20240602T020000
DTSTAMP:20260423T064221
CREATED:20240521T082454Z
LAST-MODIFIED:20240521T095212Z
UID:1252-1717264800-1717293600@selectivecity.co.za
SUMMARY:Sounds From Mama Africa By Ra Mava & Nyauist Vol12
DESCRIPTION:‘Sounds From Mama Africa’ \n\n\n\n– African sounds\, from ancient to modern\, tribal\, indigenous\, Afro electro\, Afro funk\, Afro trap\, Afro beat\, SA sounds etc \n\n\n\nHost DJs: \n\n\n\nRa Mava & Nyauist  \n\n\n\nDate: 1st June | Saturday|Time: Doors Open at 6 pm | Show Starts – 7pm |Venue: Selective live| \n\n\n\nNB…. Loadshedding Does not affect our events in any way!! (Generator On Site)
URL:https://selectivecity.co.za/event/sounds-from-mama-africa-by-ra-mava-nyauist-vol12/
LOCATION:Selective Live\, 189 Buitengragt\, Cape Town\, 8001\, South Africa
END:VEVENT
BEGIN:VEVENT
DTSTART;TZID=UTC:20240531T180000
DTEND;TZID=UTC:20240601T020000
DTSTAMP:20260423T064221
CREATED:20240521T091421Z
LAST-MODIFIED:20240521T094907Z
UID:1269-1717178400-1717207200@selectivecity.co.za
SUMMARY:Yallunder
DESCRIPTION:She classically trained\, cum laude vocal pedagogy graduate and soulful vocalists was born and raised in Bizana\, a small village in the Eastern Cape\, South Africa. Yolanda Nyembezi better known as Yallunder is known for her soulful voice that she made extensive use of creating covers that got her the attention of prominent names such as Black Coffee and Sjava in 2018. \n\n\n\nS’java took Yallunder’s career a step further when he signed her to his record label 1020 Cartel where her career as a recording artist kicked off with the stable album titled iSambulo in the year 2020 with her song Ndinovalo and the collaborative songs Inhliziyo and Abanjani. \n\n\n\nThe artist on the same year released her first project titled Uthando Lwam which was engineered by Ruff. Since then\, she has carried her voice to the dance genre working with DJs and producers such as Lemon & Herb\, Kabza De Small \, OSKIDO\, MÖRDA and Heavy-K to mention a few. \n\n\n\ninfo@selectivelive.co.za \n\n\n\nDoors open at 6pm and show starts at 8pm
URL:https://selectivecity.co.za/event/yallunder/
LOCATION:Selective Live\, 189 Buitengragt\, Cape Town\, 8001\, South Africa
END:VEVENT
BEGIN:VEVENT
DTSTART;TZID=UTC:20240530T180000
DTEND;TZID=UTC:20240530T230000
DTSTAMP:20260423T064221
CREATED:20240521T091024Z
LAST-MODIFIED:20240521T124934Z
UID:1264-1717092000-1717110000@selectivecity.co.za
SUMMARY:Escape Room hosted by Mumz
DESCRIPTION:Clean X Cape presents the first crowd based comedy escape room in Africa. What is that you say? Imagine if a quiz night\, escape room and a comedy night had a love child. Join us on Thursday\, 30th May at Selective Live and be part of a fun night of solving puzzles and answering quiz questions as a crowd in order to help a comedian escape from their shackles. Prizes will be given to members of the audience who figure out key clues to the comedian’s freedom. \n\n\n\ndoors open at 6pm
URL:https://selectivecity.co.za/event/escape-room-hosted-by-mumz/
LOCATION:Selective Live\, 189 Buitengragt\, Cape Town\, 8001\, South Africa
END:VEVENT
BEGIN:VEVENT
DTSTART;TZID=UTC:20240529T190000
DTEND;TZID=UTC:20240530T020000
DTSTAMP:20260423T064221
CREATED:20240521T090432Z
LAST-MODIFIED:20240521T125103Z
UID:1260-1717009200-1717034400@selectivecity.co.za
SUMMARY:Miss Morena
DESCRIPTION:The event will feature the talented Miss Morena\, whose music serves as a powerful extension of political awareness and engagement\, with songs such as “If It Ain’t About the Freedom” and “Can we All Be Free.” Additionally\, she will mini-debut her latest music video\, “Regular\,” adding an extra layer of excitement to the evening. \n\n\n\nThe event will be a musical journey intertwined with discussions on themes of freedom\, independence\, power\, and unity. Miss Morena’s performance will be accompanied by an acoustic live band\, and we are thrilled to announce special appearances by two additional artists\, including a poet. This promises to be an evening of enlightenment and inspiration\, perfectly timed to coincide with the crucial 2024 elections in South Africa. \n\n\n\nDoors open at 5pm
URL:https://selectivecity.co.za/event/miss-morena/
LOCATION:Selective Live\, 189 Buitengragt\, Cape Town\, 8001\, South Africa
END:VEVENT
BEGIN:VEVENT
DTSTART;TZID=UTC:20240526T170000
DTEND;TZID=UTC:20240526T230000
DTSTAMP:20260423T064221
CREATED:20240524T085526Z
LAST-MODIFIED:20240524T085531Z
UID:1287-1716742800-1716764400@selectivecity.co.za
SUMMARY:Auriol Hays 8th Album Launch At Selective Live
DESCRIPTION:he has the knack to astound\, and quite often her sound defies categorization’. Zakes Mda \n\n\n\nWith seven albums under her belt she effortlessly manages to deliver iconic \n\n\n\nsongs from each musical offering. In June 2019\, Ms Hays opened for triple \n\n\n\naward winning musician and producer Ben Harper\, and in 2021 was the \n\n\n\nonly South African artist chosen to be part of the Commonwealth of \n\n\n\nLearning Virtual Celebrations\, focused in addressing increasing \n\n\n\ninequalities. Ms Hays was chosen as one of 12 artists\, to participate in the \n\n\n\nTankwa Artscape residency in the desert in March 2022. Her 7th album Silk \n\n\n\nand Gravel was sponsored by SAMPRA and her 8th and 9th \n\n\n\n\, After Dusk and Fool’s Gold will be released at the end October funded by SAMRO. She also \n\n\n\nparticipated in the Plettenberg Land Art Festival in September 2023. \n\n\n\nTurn Up the Volume and Take it Slow were the two chart topping tracks off \n\n\n\nher debut album Behind Closed Doors. A Better Man from her deeply \n\n\n\nintimate Call It Love Anima Sola sophomore release. Her Deep Hays album\, \n\n\n\ncollaboration with Rowick Deep\, delivered two unforgettable songs that \n\n\n\ncan still be heard on the dance floors\, Deeper Than the Ocean and Rhythm \n\n\n\nSublime. Dreaming Music was no different. She astounded her audience \n\n\n\nwith her own rendition of Sipho Hotstix Mabuse’s “Burn Out\, thereby \n\n\n\nmaking the song entirely her own. “Child Atone”\, featuring Riaan Smit from \n\n\n\nCrimson House Blues contained\, as Zakes Mda said\, ‘resonances of the \n\n\n\nAmerican Deep South of slavery and Uncle Tom\, of tamed field hollers and \n\n\n\nceremonial chants. Auriol’s blues vocals here will surely wake Ma Rainey \n\n\n\nfrom her grave.’ \n\n\n\nMs Hays is no mere jazz singer. She is a musical storyteller\, a sonorous shaman\, a songwriter above all else whose musical and emotive range is influenced by a plethora of sounds. And all her music rendered is done so in a voice entirely and completely her own. She released various singles from her fifth musical release\, TENtation\, in 2018\, and gave audiences a taste of her new material during an intimate performance in 2023 at Selective Live. \n\n\n\nDoors Open at 5pm and show starts at 8pm.
URL:https://selectivecity.co.za/event/auriol-hays-8th-album-launch-at-selective-live-2/
LOCATION:Selective Live\, 189 Buitengragt\, Cape Town\, 8001\, South Africa
END:VEVENT
BEGIN:VEVENT
DTSTART;TZID=UTC:20240525T170000
DTEND;TZID=UTC:20240526T020000
DTSTAMP:20260423T064221
CREATED:20240521T074925Z
LAST-MODIFIED:20240521T075042Z
UID:1247-1716656400-1716688800@selectivecity.co.za
SUMMARY:Nomadic Orchestra at Selective Live
DESCRIPTION:We are Nomadic Orchestra! We play brass music\, we play dance music\, we play intelligent music\, and we play dumb music. We play whatever music we want to play and that’s okay because you come anyway.” \n\n\n\nThis motley crew of music nerds\, fondly referred to as “The Nomads\,” hail from the South African College of Music (UCT) in Cape Town and all have a deep passion for music performance and composition. The music keeps dance and groove at the centre of its inspiration and borrows from many different styles. Hip hop\, afrobeat\, ghoema\, samba\, ska\, klezmer and various other sounds are blended into one cohesive\, high-energy performance. \n\n\n\nThe primary goal of The Nomads is to get people moving. The band plays an infectious kind of high-energy dance music guaranteed to get feet tapping and limbs swaying. With three full-length studio albums\, many successful tours\, festivals and events on their resume\, the band strives to create top-quality original music for all. \n\n\n\nDoors open at 5pm
URL:https://selectivecity.co.za/event/nomadic-orchestra-at-selective-live/
LOCATION:Selective Live\, 189 Buitengragt\, Cape Town\, 8001\, South Africa
END:VEVENT
BEGIN:VEVENT
DTSTART;TZID=UTC:20240524T180000
DTEND;TZID=UTC:20240524T230000
DTSTAMP:20260423T064221
CREATED:20240521T074027Z
LAST-MODIFIED:20240521T074031Z
UID:1243-1716573600-1716591600@selectivecity.co.za
SUMMARY:Goema Cabana - Mervyn Africa & Jitsvinger
DESCRIPTION:African Jazz legend Mervyn Africa and Multiple Award-winning Afrikaaps pioneer Jitsvinger is teaming up once again for an inter-generational performance collaboration. Together they bring stories and experiences from living in District Six during Apartheid\, from growing up in the 80s\, using the technology and influences of their time and to traveling the globe presenting their culture on world stages. With their collaboration presentation they will perform a union of two genres by the likes of Township Jazz\, Hip Hop\, Angolan inspired Music\, Spoken Word and Goema for the strength of a well-entertained evening not be missed. \n\n\n\nDoors open at 5pm and show starts at 8pm
URL:https://selectivecity.co.za/event/goema-cabana-mervyn-africa-jitsvinger/
LOCATION:Selective Live\, 189 Buitengragt\, Cape Town\, 8001\, South Africa
END:VEVENT
BEGIN:VEVENT
DTSTART;TZID=UTC:20240519T170000
DTEND;TZID=UTC:20240519T230000
DTSTAMP:20260423T064221
CREATED:20240506T140347Z
LAST-MODIFIED:20240508T091553Z
UID:1205-1716138000-1716159600@selectivecity.co.za
SUMMARY:The Misty Cliffs At Selective Live
DESCRIPTION:In the heart of Cape Town’s bustling music scene\, The Misty Cliffs have emerged as a beacon of indie pop-rock and singer-songwriter excellence. The trio\, comprised of Nick Turner on guitar and vocals\, Nick Catto on bass and vocals\, and Matt Catto on drums\, percussion\, and vocals\, combines a profound depth of experience with an infectious energy that defines their sound. \n\n\n\nThe essence of The Misty Cliffs lies in their ability to weave the introspective lyricism of singer-songwriter genres with the upbeat\, catchy rhythms of indie pop-rock. This fusion creates a sound that’s both reflective and invigorating\, making their music the perfect companion for a road trip or a deep dive into the complexities of the human experience. Their performances are an exploration of musical boundaries\, delivering a live experience that is as unpredictable as it is thrilling. \n\n\n\nDoors open 5pm and show starts at 8pm!!
URL:https://selectivecity.co.za/event/the-misty-cliffs-at-selective-live/
LOCATION:Selective Live\, 189 Buitengragt\, Cape Town\, 8001\, South Africa
CATEGORIES:Concert
END:VEVENT
BEGIN:VEVENT
DTSTART;TZID=UTC:20240511T180000
DTEND;TZID=UTC:20240512T013000
DTSTAMP:20260423T064221
CREATED:20240507T220635Z
LAST-MODIFIED:20240507T221035Z
UID:1215-1715450400-1715477400@selectivecity.co.za
SUMMARY:Lost Youth At Selective Live
DESCRIPTION:
URL:https://selectivecity.co.za/event/lost-youth-at-selective-live/
LOCATION:Selective Live\, 189 Buitengragt\, Cape Town\, 8001\, South Africa
END:VEVENT
BEGIN:VEVENT
DTSTART;TZID=UTC:20240509T170000
DTEND;TZID=UTC:20240509T230000
DTSTAMP:20260423T064221
CREATED:20240506T140714Z
LAST-MODIFIED:20240506T140842Z
UID:1210-1715274000-1715295600@selectivecity.co.za
SUMMARY:Melorie Jane Album Launch
DESCRIPTION:Experience the enchanting sounds of the Melorie Jane quintet as they unveil tracks from their latest album during an exclusive album launch concert at Selective Live. Led by Melorie Jane herself\, this dynamic ensemble features an array of talented musicians: Chanté Phillips on drums\, Chadleigh Gowar on bass guitar\, Danél Dippenaar on alto saxophone and flute\, and Bonga Mosola on trumpet. \n\n\n\nImmerse yourself in a captivating performance where original compositions blend seamlessly with timeless jazz classics that have inspired the artist. Embark on a musical odyssey through the rich tapestry of South African jazz\, infused with hints of film scores\, neo-soul\, and iconic jazz motifs. \n\n\n\nJoin us for this unforgettable journey on the 9th of May at 8pm\, with doors opening at 5pm. Secure your tickets either at the venue entrance or here \n\n\n\nDoors open at 5pm
URL:https://selectivecity.co.za/event/melorie-jane-album-launch/
LOCATION:Selective Live\, 189 Buitengragt\, Cape Town\, 8001\, South Africa
END:VEVENT
BEGIN:VEVENT
DTSTART;TZID=UTC:20240426T180000
DTEND;TZID=UTC:20240427T190000
DTSTAMP:20260423T064221
CREATED:20240426T154359Z
LAST-MODIFIED:20240425T175335Z
UID:1010-1714154400-1714244400@selectivecity.co.za
SUMMARY:Johnny Filter I’m Grown Birthday Bash
DESCRIPTION:AFTER 40 TRIPS AROUND THE SUN\, IT’S TIME TO CELEBRATE LIFE IN THE WAY WE DO BEST. EXPECT AN EXPERIENCE THAT’LL LEAVE YOUR NECK SNAPPED AS YOUR FACE PULLS THE NASTIEST STANK FACE TO THE \n\n\n\nSOUNDS OF A HIP HOP LINE UP SO FIRE\, YOU MIGHT NOT NEVER BE THE SAME AGAIN – ACTUALLY WE GUARANTEE IT. \n\n\n\nIF YOU’RE READING THIS\, CONSIDER YOURSELF LUCKY. WE’VE LEFT THE LIKES OF DRAKE and BUSTIN JEBER on BLUE-TICKs TO ORGANIZE THIS HERE GATHERING. \n\n\n\nJOKES ASIDE. WE’VE BEEN BLESSED WITH A HIP HOP LINE UP SO BUTTER\, SO DOWNRIGHT DELICIOUS\, WE’RE FEELING BLESSED AND WANT TO SHARE THE LOVE. \n\n\n\nSELECTIVE LIVE HAS BEEN GRACIOUS ENOUGH TO HOST SOUTH AFRICAN BORN JOHNNY FILTER’S BIRTHDAY. A MUCH-ANTICPATED RETURN TO CELEBRATE HIS \n\n\n\n40TH BIRTHDAY ON HOME TURF IN THE MOTHER OF ALL CITIES… THE CAPE COAST! \n\n\n\nLEAVE YOUR PRETENSE\, YOUR JUDGEMENT AND YOUR NEGATIVITY AT CRIBS\, BECAUSE THIS IS A ‘FROM THE SOUF’ AFFAIR. IT’S ALL PEACE\, LOVE AND GOOD MUSIC WHEN YOU \n\n\n\nENTER THIS SPACE. \n\n\n\nSOUF SIDE! \n\n\n\nLine up Times to be confirmed
URL:https://selectivecity.co.za/event/johnny-filter-im-grown-birthday-bash/
LOCATION:Selective Live\, 189 Buitengragt\, Cape Town\, 8001\, South Africa
END:VEVENT
BEGIN:VEVENT
DTSTART;TZID=UTC:20240424T090000
DTEND;TZID=UTC:20240424T230000
DTSTAMP:20260423T064221
CREATED:20240424T173531Z
LAST-MODIFIED:20240424T173608Z
UID:1077-1713949200-1713999600@selectivecity.co.za
SUMMARY:foot ball league games
DESCRIPTION:Jam session then football games tonight at selective come hangout with the boys!!! Everton vs Liverpool and Man United vs Sheffield United. 9pm!! 2 for 1 beer special before 9pm.
URL:https://selectivecity.co.za/event/foot-ball-league-games/
LOCATION:Selective Live\, 189 Buitengragt\, Cape Town\, 8001\, South Africa
END:VEVENT
BEGIN:VEVENT
DTSTART;TZID=UTC:20240421T190000
DTEND;TZID=UTC:20240421T233000
DTSTAMP:20260423T064221
CREATED:20240421T145839Z
LAST-MODIFIED:20240425T175359Z
UID:983-1713726000-1713742200@selectivecity.co.za
SUMMARY:KRMN\, Streetwise Band and many more
DESCRIPTION:Street Wise band … jamming a remixes like Brown skin by Richie Spice and Shape of you by Ed Sheeran ….and singing their own originals. \n\n\n\n\n  @7stw4band Street Wise band … jamming  a remix middle of Brown skin by Richie Spice and Shape of you by Ed Sheeran ….  ♬ original sound – Street Wise Band   \n\n\n\n\nKRMN is an artist based in Cape Town who creates music that speaks about sadness and purpose. The style that he aims for is one of ambience and intimacy with Hip Hop\, Rock and R&B influences. KRMN is a versatile artist who produces all of his music and has an intense poetic sense when it comes to his lyrics. With a narrative and visual mind\, his music becomes a spectacle of storytelling and ambiance. \n\n\n\nDoors Open at 7pm Show starts 9pm
URL:https://selectivecity.co.za/event/krmn-streetwise-band-and-many-more/
LOCATION:Selective Live\, 189 Buitengragt\, Cape Town\, 8001\, South Africa
END:VEVENT
BEGIN:VEVENT
DTSTART;TZID=UTC:20240420T180000
DTEND;TZID=UTC:20240421T020000
DTSTAMP:20260423T064221
CREATED:20240420T175226Z
LAST-MODIFIED:20240425T175409Z
UID:1070-1713636000-1713664800@selectivecity.co.za
SUMMARY:420 Deep Party
DESCRIPTION:ouchdown Saturdays started a few years back with selective hearing at the fore front of the music. \n\n\n\nWe now diving deep into a new funky uptown sound and it’s time to rebuild and push the movement forward as it’s the 20 of the 4th month of the year!! 420 Deep with some fresh djs in town! \n\n\n\ndoors open at 4pm! Free mimosas between 5-8pm \n\n\n\nSee you for sunset!!!!
URL:https://selectivecity.co.za/event/420-deep-party/
LOCATION:Selective Live\, 189 Buitengragt\, Cape Town\, 8001\, South Africa
ATTACH;FMTTYPE=image/jpeg:https://selectivecity.co.za/wp-content/uploads/2024/04/INSTAGRAM-420-814X814.jpg
END:VEVENT
BEGIN:VEVENT
DTSTART;TZID=UTC:20240419T180000
DTEND;TZID=UTC:20240420T010000
DTSTAMP:20260423T064221
CREATED:20240419T153918Z
LAST-MODIFIED:20240425T175419Z
UID:1005-1713549600-1713574800@selectivecity.co.za
SUMMARY:Bon voyage Ndumiso Nyovane
DESCRIPTION:Ndumiso Nyovane blends jazz\, funk and South African township flavours to create an appealing\, pancultrual style. Ndumsio made his first stage appearance when he was just 14 years old as the youngest member of the Afrobeat group Varukweru. He is one of south Africa’s most in-demand studio and stage musicians. \n\n\n\nDoors open at 5pm and show starts at 8pm!!! \n\n\n\nJazz Djs to open up the set!!!!!
URL:https://selectivecity.co.za/event/bon-voyage-ndumiso-nyovane/
LOCATION:Selective Live\, 189 Buitengragt\, Cape Town\, 8001\, South Africa
END:VEVENT
BEGIN:VEVENT
DTSTART;TZID=UTC:20240414T170000
DTEND;TZID=UTC:20240415T013000
DTSTAMP:20260423T064221
CREATED:20240412T152708Z
LAST-MODIFIED:20240412T152711Z
UID:997-1713114000-1713144600@selectivecity.co.za
SUMMARY:Street wise Band
DESCRIPTION:
URL:https://selectivecity.co.za/event/street-wise-band/
LOCATION:Selective Live\, 189 Buitengragt\, Cape Town\, 8001\, South Africa
END:VEVENT
BEGIN:VEVENT
DTSTART;TZID=UTC:20240409T200000
DTEND;TZID=UTC:20240410T020000
DTSTAMP:20260423T064221
CREATED:20240409T155356Z
LAST-MODIFIED:20240409T155749Z
UID:972-1712692800-1712714400@selectivecity.co.za
SUMMARY:OPEN MIC
DESCRIPTION:This week again with host Sipho we’re giving you Selective Live’s stage !
URL:https://selectivecity.co.za/event/open-mic/
LOCATION:Selective Live\, 189 Buitengragt\, Cape Town\, 8001\, South Africa
CATEGORIES:Open Mic
ORGANIZER;CN="Selective Live":MAILTO:info@selectivecity.co.za
END:VEVENT
END:VCALENDAR