BEGIN:VCALENDAR
VERSION:2.0
PRODID:-// - ECPv6.15.20//NONSGML v1.0//EN
CALSCALE:GREGORIAN
METHOD:PUBLISH
X-ORIGINAL-URL:https://selectivecity.co.za
X-WR-CALDESC:Events for 
REFRESH-INTERVAL;VALUE=DURATION:PT1H
X-Robots-Tag:noindex
X-PUBLISHED-TTL:PT1H
BEGIN:VTIMEZONE
TZID:UTC
BEGIN:STANDARD
TZOFFSETFROM:+0000
TZOFFSETTO:+0000
TZNAME:UTC
DTSTART:20250101T000000
END:STANDARD
END:VTIMEZONE
BEGIN:VEVENT
DTSTART;TZID=UTC:20260426T150000
DTEND;TZID=UTC:20260426T173000
DTSTAMP:20260421T170659
CREATED:20260402T101437Z
LAST-MODIFIED:20260402T101439Z
UID:3148-1777215600-1777224600@selectivecity.co.za
SUMMARY:Selective Live — Rooftop Music Experience with Mabongi Thusi
DESCRIPTION:Join us for a special gathering of music\, as Mabongi Thusi debuts her latest project\, Family Affair. The basis of offering is in the name\, with Mabogni being joined by her family\, blood and chosen to give us this unique experience of music and community. \n\n\n\nMabongi Thusi is a singer\, songwriter\, guitarist and community builder who hails from Kwa-Zulu Natal and is currently based in Cape Town. Mabongi is the lead singer of the band Mabongi Thusi & The OAK. The family band\, who are also three time Victory Gospel Awards nominees\, consists of herself and her sons; Owethu Ndwandwe (piano)\, Zwide Ndwandwe (bass) and Khanya Ndwandwe (electric guitar). Mabongi Thusi and her sons released their first album\, SINGABEZULU\, in 2015 and their second album Vimbani: Live at The SABC Auditorium in 2019. Their music combines the sounds of Jazz and traditional African music from different parts of the continent. Mabongi writes and sings in multiple African languages including IsiZulu\, Sesotho\, Lingala and Shona\, Swahili. In 2017\, Mabongi Thusi started crowdfunding project to open up a music program for students atInkwenkwezi High School\, located in the community of Du Noon\, Cape Town. The program was successfully launched when enough resources were gathered in 2018 to provide the school with their own set of marimbas\, allowing Mabongi and her sons to give students of the high school their very first lessons with musical instruments. Mabongi believes in using her music\, as well as her platform\, to address societal issues. Mabongi prides herself in being involved with various community based projects that are looking to bring progress\, justice and healing. \n\n\n\nDoors open at 3pm show starts at 4pm.
URL:https://selectivecity.co.za/event/selective-live-rooftop-music-experience-with-mabongi-thusi/
LOCATION:Blackbrick Gardens\, 2 Roodehek Street\, Gardens\, Cape Town\, 8001\, South Africa
ATTACH;FMTTYPE=image/png:https://selectivecity.co.za/wp-content/uploads/2026/04/INSTAGRAM-Mabongi-814X814.png
END:VEVENT
BEGIN:VEVENT
DTSTART;TZID=UTC:20260426T180000
DTEND;TZID=UTC:20260426T210000
DTSTAMP:20260421T170659
CREATED:20260411T133343Z
LAST-MODIFIED:20260411T133346Z
UID:3152-1777226400-1777237200@selectivecity.co.za
SUMMARY:Selective Live rooftop Music experience with Bheki Khoza
DESCRIPTION:Selective Live is Back. \n\n\n\nWe’re reopening and stepping into an exciting new chapter at our new home — the rooftop of BlackBrick Gardens Hotel. Elevated\, intimate\, and effortlessly soulful\, \n\n\n\nSelective Live returns as your go-to Sunday experience where music\, culture\, and sunset summers meet. \n\n\n\nJoin us every Sunday as we bring you live Afro-Jazz and Neo-Soul performances\, paired with carefully curated vinyl DJ sets that set the tone from sunset into the evening. Expect delicious canapés\, crafted cocktails\, and a crowd that appreciates good music and beautiful moments. \n\n\n\nBheki Khoza is the well-known left handed guitarist from Umlazi\, Durban\, South Africa. In 1991 he received a Talent Award and scholarship to study music in America. He returned in 1995 from studying at the University of Hartford\, Connecticut\, with the great Jackie McClean\, on of the few living legends. \n\n\n\nDoors open at 6:30pm and show starts at 7pm. 
URL:https://selectivecity.co.za/event/selective-live-rooftop-music-experience-with-bheki-khoza/
LOCATION:Blackbrick Gardens\, 2 Roodehek Street\, Gardens\, Cape Town\, 8001\, South Africa
ATTACH;FMTTYPE=image/png:https://selectivecity.co.za/wp-content/uploads/2026/04/INSTAGRAM-bheki-814X814.png
END:VEVENT
END:VCALENDAR