BEGIN:VCALENDAR
VERSION:2.0
PRODID:-// - ECPv6.15.20//NONSGML v1.0//EN
CALSCALE:GREGORIAN
METHOD:PUBLISH
X-ORIGINAL-URL:https://selectivecity.co.za
X-WR-CALDESC:Events for 
REFRESH-INTERVAL;VALUE=DURATION:PT1H
X-Robots-Tag:noindex
X-PUBLISHED-TTL:PT1H
BEGIN:VTIMEZONE
TZID:UTC
BEGIN:STANDARD
TZOFFSETFROM:+0000
TZOFFSETTO:+0000
TZNAME:UTC
DTSTART:20250101T000000
END:STANDARD
END:VTIMEZONE
BEGIN:VEVENT
DTSTART;TZID=UTC:20260322T150000
DTEND;TZID=UTC:20260322T213000
DTSTAMP:20260421T170017
CREATED:20260303T111309Z
LAST-MODIFIED:20260318T155918Z
UID:3118-1774191600-1774215000@selectivecity.co.za
SUMMARY:Selective Live rooftop Music experience with Unathi Lu
DESCRIPTION:Join us for an evening with the soulful sounds of Unathi Lu\, a rising star in the singer-songwriter scene\,  Sunday March 22nd at Selective Live. \n\n\n\nWith her evocative voice and heartfelt lyrics\, Unathi brings an intimate blend of acoustic guitar melodies and powerful storytelling to the stage. Whether you’re a longtime fan or discovering her for the first time\, this is your chance to experience her music in its raw\, authentic form. \n\n\n\nDon’t miss a night of stripped-down sound and honest emotion from one of the most compelling voices in local music. Come early\, grab a drink\, and settle in for a moving live performance. \n\n\n\nTicket link in bio!!! \n\n\n\nDoors open at 3pm and show starts at 6pm. \n\n\n\nFor more contact info@selectivehearing.co.za
URL:https://selectivecity.co.za/event/selective-live-rooftop-music-experience-with-unathi-lu/
LOCATION:Blackbrick Gardens\, 2 Roodehek Street\, Gardens\, Cape Town\, 8001\, South Africa
ATTACH;FMTTYPE=image/png:https://selectivecity.co.za/wp-content/uploads/2026/03/INSTAGRAM-Unathi-Lu-814X814.png
END:VEVENT
END:VCALENDAR