BEGIN:VCALENDAR
VERSION:2.0
PRODID:-// - ECPv6.15.20//NONSGML v1.0//EN
CALSCALE:GREGORIAN
METHOD:PUBLISH
X-ORIGINAL-URL:https://selectivecity.co.za
X-WR-CALDESC:Events for 
REFRESH-INTERVAL;VALUE=DURATION:PT1H
X-Robots-Tag:noindex
X-PUBLISHED-TTL:PT1H
BEGIN:VTIMEZONE
TZID:UTC
BEGIN:STANDARD
TZOFFSETFROM:+0000
TZOFFSETTO:+0000
TZNAME:UTC
DTSTART:20250101T000000
END:STANDARD
END:VTIMEZONE
BEGIN:VEVENT
DTSTART;TZID=UTC:20260315T150000
DTEND;TZID=UTC:20260315T220000
DTSTAMP:20260421T170059
CREATED:20260219T111737Z
LAST-MODIFIED:20260219T111739Z
UID:3101-1773586800-1773612000@selectivecity.co.za
SUMMARY:Selective Live rooftop DJ experience with Donwella (UK)
DESCRIPTION:This one’s for the old school Selective crew! All the way from London UK\, Donwella is back in the mother city and making her return to the Selective decks for one night only. The day 1 heads will remember her legendary rooftop sets from the early days of 2019. On Sunday March 15th\, she’ll be channeling all her love for Selective with her signature blend of eclectic sounds; hip-hop\, kwaito\, soulful house and plenty UK flavours and global grooves.
URL:https://selectivecity.co.za/event/selective-live-rooftop-dj-experience-with-donwella-uk/
LOCATION:Blackbrick Gardens\, 2 Roodehek Street\, Gardens\, Cape Town\, 8001\, South Africa
ATTACH;FMTTYPE=image/png:https://selectivecity.co.za/wp-content/uploads/2026/02/INSTAGRAM-Donwella-814X814.png
END:VEVENT
BEGIN:VEVENT
DTSTART;TZID=UTC:20260315T150000
DTEND;TZID=UTC:20260315T220000
DTSTAMP:20260421T170059
CREATED:20260303T074324Z
LAST-MODIFIED:20260303T075555Z
UID:3113-1773586800-1773612000@selectivecity.co.za
SUMMARY:Selective Live rooftop Music experience with Khanyisa
DESCRIPTION:Khanyisa returns to the stage for an intimate\, high-energy live experience at Selective Live this March. \n\n\n\nKnown for his fusion of Xhosa lyricism\, sharp rap flows and soulful storytelling\, Khanyisa brings the full band\, the bars\, and the presence. This isn’t just a performance — it’s a moment. Expect a curated set of fan favourites\, unreleased music\, and live arrangements that hit deeper than the recordings. \n\n\n\nIf you’ve seen the rehearsal clips\, the CPUT Piazza performance\, or the Xhosaverse live sessions — you already know. \n\n\n\nIf you haven’t — this is where you start. \n\n\n\nDoors open at 3pm show starts at 6pm
URL:https://selectivecity.co.za/event/selective-live-rooftop-music-experience-with-khanyisa/
LOCATION:Blackbrick Gardens\, 2 Roodehek Street\, Gardens\, Cape Town\, 8001\, South Africa
ATTACH;FMTTYPE=image/png:https://selectivecity.co.za/wp-content/uploads/2026/02/INSTAGRAM-Khanyisa2-814X814.png
END:VEVENT
END:VCALENDAR