BEGIN:VCALENDAR
VERSION:2.0
PRODID:-// - ECPv6.15.20//NONSGML v1.0//EN
CALSCALE:GREGORIAN
METHOD:PUBLISH
X-ORIGINAL-URL:https://selectivecity.co.za
X-WR-CALDESC:Events for 
REFRESH-INTERVAL;VALUE=DURATION:PT1H
X-Robots-Tag:noindex
X-PUBLISHED-TTL:PT1H
BEGIN:VTIMEZONE
TZID:UTC
BEGIN:STANDARD
TZOFFSETFROM:+0000
TZOFFSETTO:+0000
TZNAME:UTC
DTSTART:20240101T000000
END:STANDARD
END:VTIMEZONE
BEGIN:VEVENT
DTSTART;TZID=UTC:20250927T200000
DTEND;TZID=UTC:20250928T020000
DTSTAMP:20260422T032955
CREATED:20250925T100536Z
LAST-MODIFIED:20250925T100538Z
UID:3002-1759003200-1759024800@selectivecity.co.za
SUMMARY:Tigerlilly and Rigby Ranks
DESCRIPTION:🏉 Rugby Game Screening: Springboks vs Argentina 🇿🇦🇦🇷 \n\n\n\nJoin us for an electric atmosphere as we screen the epic clash between the Springboks and Argentina live! Expect big hits\, world-class plays\, and all the intensity of test match rugby — surrounded by fellow fans. \n\n\n\n📅 Date: 27 September 2025🕖 Kick-off: 5pm doors open at 4pm📍 Venue: Selective Live🎟️ Entry: Free (Book table for rugby recommended) \n\n\n\nAfter the match Marimba band then followed by Dj Tigerlilly and Rigby Ranks \n\n\n\n🍻 Food & drink specials🎉 Giveaways📺 Big screen + full surround sound \n\n\n\nWhether you bleed green and gold or back the Pumas\, this is the place to be for all the action. Wear your jersey\, bring your voice\, and let’s make it a night to remember!
URL:https://selectivecity.co.za/event/tigerlilly-and-rigby-ranks/
LOCATION:Selective Live\, 189 Buitengragt\, Cape Town\, 8001\, South Africa
ATTACH;FMTTYPE=image/png:https://selectivecity.co.za/wp-content/uploads/2025/09/INSTAGRAM-DJset-27th-814X814.png
END:VEVENT
END:VCALENDAR