BEGIN:VCALENDAR
VERSION:2.0
PRODID:-// - ECPv6.15.20//NONSGML v1.0//EN
CALSCALE:GREGORIAN
METHOD:PUBLISH
X-ORIGINAL-URL:https://selectivecity.co.za
X-WR-CALDESC:Events for 
REFRESH-INTERVAL;VALUE=DURATION:PT1H
X-Robots-Tag:noindex
X-PUBLISHED-TTL:PT1H
BEGIN:VTIMEZONE
TZID:UTC
BEGIN:STANDARD
TZOFFSETFROM:+0000
TZOFFSETTO:+0000
TZNAME:UTC
DTSTART:20240101T000000
END:STANDARD
END:VTIMEZONE
BEGIN:VEVENT
DTSTART;TZID=UTC:20250925T180000
DTEND;TZID=UTC:20250926T190000
DTSTAMP:20260422T035022
CREATED:20250423T122711Z
LAST-MODIFIED:20250925T073855Z
UID:2494-1758823200-1758913200@selectivecity.co.za
SUMMARY:Open Decks and Jam session
DESCRIPTION:**Calling All DJs\, Musicians\, Singers and Rappers!** \n\n\n\nThis Thursday night\, the stage and decks are open to you!  Whether you specialize in house\, hip-hop\, jazz\, or anything in between\, we welcome you to showcase your style. \n\n\n\nWe’re hosting **open decks & open mic session** on a **first-come\, first-served** basis—so come early\, come ready. Musicians\, bring your instruments for a plug-and-play jam session. Let’s create something unforgettable together. \n\n\n\nEnjoy drink specials throughout the night and an incredible atmosphere filled with live creativity. \n\n\n\n**See you Thursday!** 
URL:https://selectivecity.co.za/event/open-decks-and-jam-session/
LOCATION:Selective Live\, 189 Buitengragt\, Cape Town\, 8001\, South Africa
ATTACH;FMTTYPE=image/png:https://selectivecity.co.za/wp-content/uploads/2025/04/INSTAGRAM-Open-mic-814X814-1.png
END:VEVENT
END:VCALENDAR