BEGIN:VCALENDAR
VERSION:2.0
PRODID:-// - ECPv6.15.20//NONSGML v1.0//EN
CALSCALE:GREGORIAN
METHOD:PUBLISH
X-ORIGINAL-URL:https://selectivecity.co.za
X-WR-CALDESC:Events for 
REFRESH-INTERVAL;VALUE=DURATION:PT1H
X-Robots-Tag:noindex
X-PUBLISHED-TTL:PT1H
BEGIN:VTIMEZONE
TZID:UTC
BEGIN:STANDARD
TZOFFSETFROM:+0000
TZOFFSETTO:+0000
TZNAME:UTC
DTSTART:20240101T000000
END:STANDARD
END:VTIMEZONE
BEGIN:VEVENT
DTSTART;TZID=UTC:20250919T180000
DTEND;TZID=UTC:20250920T020000
DTSTAMP:20260422T032835
CREATED:20250910T210530Z
LAST-MODIFIED:20250910T210930Z
UID:2978-1758304800-1758333600@selectivecity.co.za
SUMMARY:Voices and Verses
DESCRIPTION:We have emerging artists from around the country to have them heard! From poets\, to artists\, everyone is welcome! Each province selected will have their own chance to shine have their spotlight. \n\n\n\nSelective Live is now hosting these artists live in Cape Town!!!
URL:https://selectivecity.co.za/event/voices-and-verses/
LOCATION:Selective Live\, 189 Buitengragt\, Cape Town\, 8001\, South Africa
ATTACH;FMTTYPE=image/png:https://selectivecity.co.za/wp-content/uploads/2025/09/INSTAGRAM-VV-814X814.png
END:VEVENT
END:VCALENDAR