BEGIN:VCALENDAR
VERSION:2.0
PRODID:-// - ECPv6.15.20//NONSGML v1.0//EN
CALSCALE:GREGORIAN
METHOD:PUBLISH
X-ORIGINAL-URL:https://selectivecity.co.za
X-WR-CALDESC:Events for 
REFRESH-INTERVAL;VALUE=DURATION:PT1H
X-Robots-Tag:noindex
X-PUBLISHED-TTL:PT1H
BEGIN:VTIMEZONE
TZID:UTC
BEGIN:STANDARD
TZOFFSETFROM:+0000
TZOFFSETTO:+0000
TZNAME:UTC
DTSTART:20230101T000000
END:STANDARD
END:VTIMEZONE
BEGIN:VEVENT
DTSTART;TZID=UTC:20241101T180000
DTEND;TZID=UTC:20241102T020000
DTSTAMP:20260425T110012
CREATED:20241027T222308Z
LAST-MODIFIED:20241027T222312Z
UID:1786-1730484000-1730512800@selectivecity.co.za
SUMMARY:Joya Mooi
DESCRIPTION:Joya Mooi is a singer-songwriter who delights in crafting melodies for the courageous souls unafraid of vulnerability and introspection. Drawing from her South African roots and the characteristic vibes of her native Amsterdam\, Joya Mooi brings forth an innovative blend of R&B infused with indie and pop influences. \n\n\n\nJoya Mooi’s new EP\, Open Hearts\, showcases a fresh sonic direction\, taking listeners on a journey of self-discovery while celebrating hidden stories from the past. \n\n\n\nDylan Fine on Guitar@dylanfinemusic \n\n\n\nDoors Open at 6pm show starts at 8pmTicket link in bio!!!
URL:https://selectivecity.co.za/event/joya-mooi/
LOCATION:Selective Live\, 189 Buitengragt\, Cape Town\, 8001\, South Africa
ATTACH;FMTTYPE=image/jpeg:https://selectivecity.co.za/wp-content/uploads/2024/10/INSTAGRAM-Joya-Mooi-814X814.jpg
END:VEVENT
END:VCALENDAR