BEGIN:VCALENDAR
VERSION:2.0
PRODID:-// - ECPv6.15.20//NONSGML v1.0//EN
CALSCALE:GREGORIAN
METHOD:PUBLISH
X-ORIGINAL-URL:https://selectivecity.co.za
X-WR-CALDESC:Events for 
REFRESH-INTERVAL;VALUE=DURATION:PT1H
X-Robots-Tag:noindex
X-PUBLISHED-TTL:PT1H
BEGIN:VTIMEZONE
TZID:UTC
BEGIN:STANDARD
TZOFFSETFROM:+0000
TZOFFSETTO:+0000
TZNAME:UTC
DTSTART:20230101T000000
END:STANDARD
END:VTIMEZONE
BEGIN:VEVENT
DTSTART;TZID=UTC:20241018T180000
DTEND;TZID=UTC:20241018T233000
DTSTAMP:20260425T105844
CREATED:20241014T223823Z
LAST-MODIFIED:20241014T223827Z
UID:1769-1729274400-1729294200@selectivecity.co.za
SUMMARY:Interlace
DESCRIPTION:At their core Interlace is a four piece fusion hip hop band\, but what they represent is a lot more – Interlace believe that there is a wealth of musical creativity buried right here in Cape Town and they are on a mission to unearth all the talent they can find. They have successfully hosted two events aimed at doing just that. Check out more of that here @interlace_music \n\n\n\nAs far as their sound goes; they have managed to find a blend between clever hip hop lyricism with the raw energy of rock music\, they also draw influence from a few other genres. This band is a definite must see if you are a fan of originality. \n\n\n\nDoors open at 6pm and show starts at 8:30pm
URL:https://selectivecity.co.za/event/interlace/
LOCATION:Selective Live\, 189 Buitengragt\, Cape Town\, 8001\, South Africa
ATTACH;FMTTYPE=image/jpeg:https://selectivecity.co.za/wp-content/uploads/2024/10/INSTAGRAM-interlace1-814X814.jpg
END:VEVENT
END:VCALENDAR