BEGIN:VCALENDAR
VERSION:2.0
PRODID:-// - ECPv6.15.20//NONSGML v1.0//EN
CALSCALE:GREGORIAN
METHOD:PUBLISH
X-ORIGINAL-URL:https://selectivecity.co.za
X-WR-CALDESC:Events for 
REFRESH-INTERVAL;VALUE=DURATION:PT1H
X-Robots-Tag:noindex
X-PUBLISHED-TTL:PT1H
BEGIN:VTIMEZONE
TZID:UTC
BEGIN:STANDARD
TZOFFSETFROM:+0000
TZOFFSETTO:+0000
TZNAME:UTC
DTSTART:20230101T000000
END:STANDARD
END:VTIMEZONE
BEGIN:VEVENT
DTSTART;TZID=UTC:20241011T180000
DTEND;TZID=UTC:20241011T230000
DTSTAMP:20260425T105943
CREATED:20241009T221018Z
LAST-MODIFIED:20241009T221022Z
UID:1755-1728669600-1728687600@selectivecity.co.za
SUMMARY:Ndumiso Nyovane at Selective Live
DESCRIPTION:Ndumiso Nyovane blends jazz\, funk and South African township flavours to create an appealing\, pancultrual style. Ndumsio made his first stage appearance when he was just 14 years old as the youngest member of the Afrobeat group Varukweru. He is one of south Africa’s most in-demand studio and stage musicians. \n\n\n\nDoors open at 6pm and show starts at 8pm
URL:https://selectivecity.co.za/event/ndumiso-nyovane-at-selective-live-2/
LOCATION:Selective Live\, 189 Buitengragt\, Cape Town\, 8001\, South Africa
ATTACH;FMTTYPE=image/jpeg:https://selectivecity.co.za/wp-content/uploads/2024/10/INSTAGRAM-Ndumiso-814X814.jpg
END:VEVENT
END:VCALENDAR