BEGIN:VCALENDAR
VERSION:2.0
PRODID:-// - ECPv6.15.20//NONSGML v1.0//EN
CALSCALE:GREGORIAN
METHOD:PUBLISH
X-ORIGINAL-URL:https://selectivecity.co.za
X-WR-CALDESC:Events for 
REFRESH-INTERVAL;VALUE=DURATION:PT1H
X-Robots-Tag:noindex
X-PUBLISHED-TTL:PT1H
BEGIN:VTIMEZONE
TZID:UTC
BEGIN:STANDARD
TZOFFSETFROM:+0000
TZOFFSETTO:+0000
TZNAME:UTC
DTSTART:20230101T000000
END:STANDARD
END:VTIMEZONE
BEGIN:VEVENT
DTSTART;TZID=UTC:20241005T190000
DTEND;TZID=UTC:20241006T023000
DTSTAMP:20260425T110013
CREATED:20241001T084541Z
LAST-MODIFIED:20241001T084544Z
UID:1740-1728154800-1728181800@selectivecity.co.za
SUMMARY:The Brother Moves On "Road to the Barbican"
DESCRIPTION:The Brother Moves On continue their road to the Barbican with their fourth stop on the fundraiser tour which see’s them return to Selective Live for a special two set show. The Selective family honours us in hosting us for the fourth leg of our fundraiser tour for our US and UK tours. We’re working to clear the way to London\, the US and Canada so line your pockets and come support TBMO. \n\n\n\nThis show is made extra special in that it will be a two-set show in that we will first present a short four track intro of our acoustic set followed by the noise making that is synonymous with the celebration that we bring. \n\n\n\nThe Brother Moves On for this weekend are: \n\n\n\nSiyabonga Mthembu on vox and spirituals \n\n\n\nZelizwe Mthembu on guitar and vox \n\n\n\nMusa Nkosi on bass \n\n\n\nMthunzi Mvubu on flute and alto sax \n\n\n\nSimphiwe Tshabalala on drums\, vox\, cahon and digital drum pad. \n\n\n\nMuhammad Dawjee on tenor sax\, saprano clarinet and toys. \n\n\n\nDoors Open at 6PM and Band Starts at 8PM
URL:https://selectivecity.co.za/event/the-brother-moves-on-road-to-the-barbican/
LOCATION:Selective Live\, 189 Buitengragt\, Cape Town\, 8001\, South Africa
ATTACH;FMTTYPE=image/jpeg:https://selectivecity.co.za/wp-content/uploads/2024/10/INSTAGRAM-TBMO-814X814.jpg
END:VEVENT
END:VCALENDAR