BEGIN:VCALENDAR
VERSION:2.0
PRODID:-// - ECPv6.15.20//NONSGML v1.0//EN
CALSCALE:GREGORIAN
METHOD:PUBLISH
X-ORIGINAL-URL:https://selectivecity.co.za
X-WR-CALDESC:Events for 
REFRESH-INTERVAL;VALUE=DURATION:PT1H
X-Robots-Tag:noindex
X-PUBLISHED-TTL:PT1H
BEGIN:VTIMEZONE
TZID:UTC
BEGIN:STANDARD
TZOFFSETFROM:+0000
TZOFFSETTO:+0000
TZNAME:UTC
DTSTART:20230101T000000
END:STANDARD
END:VTIMEZONE
BEGIN:VEVENT
DTSTART;TZID=UTC:20240831T170000
DTEND;TZID=UTC:20240831T200000
DTSTAMP:20260425T040939
CREATED:20240730T201955Z
LAST-MODIFIED:20240831T114859Z
UID:1507-1725123600-1725134400@selectivecity.co.za
SUMMARY:Pebbles Gqunta At Selective Live
DESCRIPTION:Join us for an unforgettable evening with Pebbles Gqunta and her dynamic band as they deliver a captivating performance. \n\n\n\nExperience the magic of her original songs\, spanning years of creative brilliance\, along with a sneak peek at some exciting new tracks. Don’t miss this opportunity to witness an artist at the height of her craft! \n\n\n\n\n\n\n\n\n\n\n\n\n\n\n\n\n\n\n\n\n\nPebbles is a South African R&B artist who made waves with her debut album “Playful Soul” in 2005\, earning two SAMA nominations. Known for her unique style and soulful voice\, Pebbles continued to push boundaries with her sophomore album “Phenomenal” in 2011. Collaborating with industry greats like Jazzworks and RJ Benjamin\, Pebbles has carved her own path in the music scene. Despite a hiatus\, she made a triumphant return in 2023 with “Love is a Verb\,” supported by the Concerts SA Digital Mobility Fund. Fans can look forward to new music from this talented artist in 2024. \n\n\n\nDoors open at 5pm and band starts at 8pm
URL:https://selectivecity.co.za/event/pebbles-gqunta-at-selective-live/
LOCATION:Selective Live\, 189 Buitengragt\, Cape Town\, 8001\, South Africa
ATTACH;FMTTYPE=image/jpeg:https://selectivecity.co.za/wp-content/uploads/2024/07/INSTAGRAM-Pebbles-Gqunta-814X814.jpg
END:VEVENT
END:VCALENDAR