BEGIN:VCALENDAR
VERSION:2.0
PRODID:-// - ECPv6.15.20//NONSGML v1.0//EN
CALSCALE:GREGORIAN
METHOD:PUBLISH
X-ORIGINAL-URL:https://selectivecity.co.za
X-WR-CALDESC:Events for 
REFRESH-INTERVAL;VALUE=DURATION:PT1H
X-Robots-Tag:noindex
X-PUBLISHED-TTL:PT1H
BEGIN:VTIMEZONE
TZID:UTC
BEGIN:STANDARD
TZOFFSETFROM:+0000
TZOFFSETTO:+0000
TZNAME:UTC
DTSTART:20230101T000000
END:STANDARD
END:VTIMEZONE
BEGIN:VEVENT
DTSTART;TZID=UTC:20240830T190000
DTEND;TZID=UTC:20240830T233000
DTSTAMP:20260425T024758
CREATED:20240814T122405Z
LAST-MODIFIED:20240814T122409Z
UID:1587-1725044400-1725060600@selectivecity.co.za
SUMMARY:The Guftahs
DESCRIPTION:The Guftahs are a jam-packed\, goof-tracked\, sensation-wrapped\, sonic-tapped\, gquf-boom-tshe trio of the most riddmic and groovy rastas of the mountain lands of Cape Town. \n\n\n\nOur choons are chosen specially for you\, hand picked\, freshly squeezed\, even fresher than umleqwa\, die varste pakke van die boonste rakke\, and are a selection of grooves\, harmonies and storytelling. Iyakhala chommie\, uyayiva? Come to the show\, it’s good for you. \n\n\n\nDoors Open at 5pm and show starts at 8pm.Ticket link in bio!!
URL:https://selectivecity.co.za/event/the-guftahs/
LOCATION:Selective Live\, 189 Buitengragt\, Cape Town\, 8001\, South Africa
ATTACH;FMTTYPE=image/jpeg:https://selectivecity.co.za/wp-content/uploads/2024/08/INSTAGRAM-The-Guftahs-814X814.jpg
END:VEVENT
END:VCALENDAR