BEGIN:VCALENDAR
VERSION:2.0
PRODID:-// - ECPv6.15.20//NONSGML v1.0//EN
CALSCALE:GREGORIAN
METHOD:PUBLISH
X-ORIGINAL-URL:https://selectivecity.co.za
X-WR-CALDESC:Events for 
REFRESH-INTERVAL;VALUE=DURATION:PT1H
X-Robots-Tag:noindex
X-PUBLISHED-TTL:PT1H
BEGIN:VTIMEZONE
TZID:UTC
BEGIN:STANDARD
TZOFFSETFROM:+0000
TZOFFSETTO:+0000
TZNAME:UTC
DTSTART:20230101T000000
END:STANDARD
END:VTIMEZONE
BEGIN:VEVENT
DTSTART;TZID=UTC:20240828T190000
DTEND;TZID=UTC:20240828T230000
DTSTAMP:20260424T233957
CREATED:20240730T200534Z
LAST-MODIFIED:20240730T200537Z
UID:1495-1724871600-1724886000@selectivecity.co.za
SUMMARY:Lucia Zorzi At Selective Live
DESCRIPTION:razilian singer-songwriter Lucia Zorzi is a prominent figure in São Paulo’s French music and jazz scene. Her performances offer an intimate and unique interpretation of a multilingual blend of jazz classics\, French chansons\, bossa nova\, and original compositions. Through her music\, she shares her fascinating journey from busking to songwriting\, conveying deep emotion. \n\n\n\n\n\n\n\n\n\n\n\n\n\n\n\n\n\n\n\n\n\nDoors open at 6pm show starts at 8pm.
URL:https://selectivecity.co.za/event/lucia-zorzi-at-selective-live/
LOCATION:Selective Live\, 189 Buitengragt\, Cape Town\, 8001\, South Africa
END:VEVENT
END:VCALENDAR