BEGIN:VCALENDAR
VERSION:2.0
PRODID:-// - ECPv6.15.20//NONSGML v1.0//EN
CALSCALE:GREGORIAN
METHOD:PUBLISH
X-ORIGINAL-URL:https://selectivecity.co.za
X-WR-CALDESC:Events for 
REFRESH-INTERVAL;VALUE=DURATION:PT1H
X-Robots-Tag:noindex
X-PUBLISHED-TTL:PT1H
BEGIN:VTIMEZONE
TZID:UTC
BEGIN:STANDARD
TZOFFSETFROM:+0000
TZOFFSETTO:+0000
TZNAME:UTC
DTSTART:20230101T000000
END:STANDARD
END:VTIMEZONE
BEGIN:VEVENT
DTSTART;TZID=UTC:20240827T190000
DTEND;TZID=UTC:20240827T230000
DTSTAMP:20260424T214839
CREATED:20240821T122454Z
LAST-MODIFIED:20240821T122457Z
UID:1615-1724785200-1724799600@selectivecity.co.za
SUMMARY:Third House Poetry night
DESCRIPTION:See you Tuesday poetry people. 💚🌞 \n\n\n\nPlease check out the FAQ pinned to our page for event guidelines. \n\n\n\nThank you @undoubtedly_justin_keep for the poster. 🧙‍♀️💛 \n\n\n\nSee you all soon! X
URL:https://selectivecity.co.za/event/third-house-poetry-night/
LOCATION:Selective Live\, 189 Buitengragt\, Cape Town\, 8001\, South Africa
ATTACH;FMTTYPE=image/jpeg:https://selectivecity.co.za/wp-content/uploads/2024/08/WhatsApp-Image-2024-08-21-at-14.07.23.jpeg
END:VEVENT
END:VCALENDAR