BEGIN:VCALENDAR
VERSION:2.0
PRODID:-// - ECPv6.15.20//NONSGML v1.0//EN
CALSCALE:GREGORIAN
METHOD:PUBLISH
X-ORIGINAL-URL:https://selectivecity.co.za
X-WR-CALDESC:Events for 
REFRESH-INTERVAL;VALUE=DURATION:PT1H
X-Robots-Tag:noindex
X-PUBLISHED-TTL:PT1H
BEGIN:VTIMEZONE
TZID:UTC
BEGIN:STANDARD
TZOFFSETFROM:+0000
TZOFFSETTO:+0000
TZNAME:UTC
DTSTART:20230101T000000
END:STANDARD
END:VTIMEZONE
BEGIN:VEVENT
DTSTART;TZID=UTC:20240824T190000
DTEND;TZID=UTC:20240824T233000
DTSTAMP:20260424T170502
CREATED:20240814T112546Z
LAST-MODIFIED:20240814T112700Z
UID:1570-1724526000-1724542200@selectivecity.co.za
SUMMARY:Genii Blakk
DESCRIPTION:Embrace the rhythm and soul of African hip-hop with Malawi’s Genii Blakk at Selective Live! \n\n\n\nKnown as the “Lyrical Genius”\, Genii Blakk’s profound love for music\, especially hip-hop\, resonates through his exceptional production skills and masterful lyrics\, dating back from the 2000’s. With a great production background\, Genii has laid a good foundation of production work with hits like Inyimbo & One Love. \n\n\n\nLet’s celebrate impactful music as Genii Blakk brings his unique sound to Cape Town. Accompanied by talented Hip-Hop acts\, expect an evening of intimate rap passion of ultimate African Hip Hop. \n\n\n\nDon’t miss this opportunity to witness Genii Blakk’s compelling performance in an intimate setting that honors and elevates the artistry of music\, at the home a good live music! \n\n\n\nStay updated and follow Genii Blakk on Instagram: @geniiblakk.
URL:https://selectivecity.co.za/event/genii-blakk/
LOCATION:Selective Live\, 189 Buitengragt\, Cape Town\, 8001\, South Africa
END:VEVENT
END:VCALENDAR