BEGIN:VCALENDAR
VERSION:2.0
PRODID:-// - ECPv6.15.20//NONSGML v1.0//EN
CALSCALE:GREGORIAN
METHOD:PUBLISH
X-ORIGINAL-URL:https://selectivecity.co.za
X-WR-CALDESC:Events for 
REFRESH-INTERVAL;VALUE=DURATION:PT1H
X-Robots-Tag:noindex
X-PUBLISHED-TTL:PT1H
BEGIN:VTIMEZONE
TZID:UTC
BEGIN:STANDARD
TZOFFSETFROM:+0000
TZOFFSETTO:+0000
TZNAME:UTC
DTSTART:20230101T000000
END:STANDARD
END:VTIMEZONE
BEGIN:VEVENT
DTSTART;TZID=UTC:20240823T190000
DTEND;TZID=UTC:20240824T020000
DTSTAMP:20260424T153824
CREATED:20240814T113956Z
LAST-MODIFIED:20240814T113958Z
UID:1574-1724439600-1724464800@selectivecity.co.za
SUMMARY:Jitsvinger Featuring DJ Willy
DESCRIPTION:Known as an Afrikaans cultural activist\, Jitsvinger attempts to promote and preserve its vernacular through music\, poetry and theatre. Inspired by jazz\, influenced by his love of Afrikaans and indigenous culture\, passionate about social change and immersed within Hip Hop\, Jitsvinger is more than just a rapper. Since his debut album Skeletsleutel in 2007\, Jitsvinger has grown from a Hip Hop artist into a diverse performer\, able to embrace multiple platforms and stages from theatres\, to nightclubs and literary and music festivals. Always creating against the commercial grain\, while local Hip Hop’s identity is still being formed\, Jitsvinger considers himself to be an unconventional MC\, performing a stream of consciousness which has successfully exposed him to a much broader audience beyond Hip Hop. \n\n\n\nMerch will be sold during the event! \n\n\n\nDoors open at 6pm and show kicks off at 8pm
URL:https://selectivecity.co.za/event/jitsvinger-featuring-dj-willy/
LOCATION:Selective Live\, 189 Buitengragt\, Cape Town\, 8001\, South Africa
END:VEVENT
END:VCALENDAR