BEGIN:VCALENDAR
VERSION:2.0
PRODID:-// - ECPv6.15.20//NONSGML v1.0//EN
CALSCALE:GREGORIAN
METHOD:PUBLISH
X-ORIGINAL-URL:https://selectivecity.co.za
X-WR-CALDESC:Events for 
REFRESH-INTERVAL;VALUE=DURATION:PT1H
X-Robots-Tag:noindex
X-PUBLISHED-TTL:PT1H
BEGIN:VTIMEZONE
TZID:UTC
BEGIN:STANDARD
TZOFFSETFROM:+0000
TZOFFSETTO:+0000
TZNAME:UTC
DTSTART:20230101T000000
END:STANDARD
END:VTIMEZONE
BEGIN:VEVENT
DTSTART;TZID=UTC:20240817T200000
DTEND;TZID=UTC:20240818T020000
DTSTAMP:20260424T081023
CREATED:20240814T105019Z
LAST-MODIFIED:20240814T105023Z
UID:1555-1723924800-1723946400@selectivecity.co.za
SUMMARY:Return Of The BoomBap
DESCRIPTION:Join us for DJ Eazy’s Birthday Bash\, a night dedicated to Hip Hop! \n\n\n\nFeel the vibes as Nojoke Nejo drops hip hop bangers and crowd favourites\, while The Alvhinator spins deep cuts from his treasure trove of Golden Era classics. \n\n\n\nDon’t miss out on celebrating with the best hip hop beats all night long! Come through and let’s make some unforgettable memories! \n\n\n\nTicket link in bio!!!!1 \n\n\n\n#DJEazyBirthdayBash#HipHopAllNightLong#ReturnOfTheBoomBap \n\n\n\nDate 17th August\, Saturday |Time: Doors Open at 7pm | Show Starts – 8pm| Venue: Selective Live (189 Buitengracht Street\, Gardens)
URL:https://selectivecity.co.za/event/return-of-the-boombap/
LOCATION:Selective Live\, 189 Buitengragt\, Cape Town\, 8001\, South Africa
END:VEVENT
END:VCALENDAR