BEGIN:VCALENDAR
VERSION:2.0
PRODID:-// - ECPv6.15.20//NONSGML v1.0//EN
CALSCALE:GREGORIAN
METHOD:PUBLISH
X-ORIGINAL-URL:https://selectivecity.co.za
X-WR-CALDESC:Events for 
REFRESH-INTERVAL;VALUE=DURATION:PT1H
X-Robots-Tag:noindex
X-PUBLISHED-TTL:PT1H
BEGIN:VTIMEZONE
TZID:UTC
BEGIN:STANDARD
TZOFFSETFROM:+0000
TZOFFSETTO:+0000
TZNAME:UTC
DTSTART:20230101T000000
END:STANDARD
END:VTIMEZONE
BEGIN:VEVENT
DTSTART;TZID=UTC:20240815T190000
DTEND;TZID=UTC:20240815T230000
DTSTAMP:20260424T041638
CREATED:20240814T102453Z
LAST-MODIFIED:20240814T102456Z
UID:1547-1723748400-1723762800@selectivecity.co.za
SUMMARY:Tumi Pheko's way of the light
DESCRIPTION:Tumi Pheko is a South African jazz musician known for his work as a trumpeter and composer. He has collaborated with a variety of prominent artists across different genres\, including jazz and house music. His collaborations include sharing the stage with Andile Yenana\, Herbie Tsoaeli\, Tete Mbambisa\, Nduduzo Makhathini\, Msaki\, Black Coffee\, and Mi Casa\, among others. Pheko’s work is noted for its blend of traditional jazz elements with contemporary and African influences\, reflecting his versatility and impact on the South African music scene. Pheko’s music often reflects themes of social and political relevance\, resonating with audiences both locally and internationally. Date:15 August\, Sunday |Doors Open: 5pm| Show Starts – 8pm |Venue: Selective Live | ticket link in bio!!
URL:https://selectivecity.co.za/event/tumi-phekos-way-of-the-light/
LOCATION:Selective Live\, 189 Buitengragt\, Cape Town\, 8001\, South Africa
END:VEVENT
END:VCALENDAR