BEGIN:VCALENDAR
VERSION:2.0
PRODID:-// - ECPv6.15.20//NONSGML v1.0//EN
CALSCALE:GREGORIAN
METHOD:PUBLISH
X-ORIGINAL-URL:https://selectivecity.co.za
X-WR-CALDESC:Events for 
REFRESH-INTERVAL;VALUE=DURATION:PT1H
X-Robots-Tag:noindex
X-PUBLISHED-TTL:PT1H
BEGIN:VTIMEZONE
TZID:UTC
BEGIN:STANDARD
TZOFFSETFROM:+0000
TZOFFSETTO:+0000
TZNAME:UTC
DTSTART:20230101T000000
END:STANDARD
END:VTIMEZONE
BEGIN:VEVENT
DTSTART;TZID=UTC:20240809T190000
DTEND;TZID=UTC:20240809T230000
DTSTAMP:20260423T215312
CREATED:20240730T211623Z
LAST-MODIFIED:20240730T212226Z
UID:1523-1723230000-1723244400@selectivecity.co.za
SUMMARY:Women's Day With Thandi Gqiba
DESCRIPTION:Thandi Gqiba is a Soul Singer Born and bred in Cape Town\, KwaLanga. Western Cape\, ThandiG discovered her singing talent at a very young age and started singing and dancing in a Marimba Group called Heshoo Beshoo she has travelled around doing what she loves and this resulted in being a cofounder of Jika Marimba with her peers in the community. \n\n\n\nThandi’s love for music comes from her home and her own musical community where music was used as a form of communication. Langa is a very rich musical community\, one of her mentors\, Mam Ncediwe Sylvia Mdunyelwa\, her house is where Thandi used to rehearse with Heshoo Beshoo. \n\n\n\nThandiG\, as she goes by has performed with various Artists in the music industry and her highlight in her music career was recording with her brother Ringo Madlingozi on his first Ringo Live1 DVD in 2004. She has been performing all around Cape Town doing corporate gigs and she is now hosting her own 2 days 40th Birthday Celebration to celebrate Life. This will be carried out through music which is her first love. \n\n\n\nDoors open at 6pm and show starts at 8pm.
URL:https://selectivecity.co.za/event/womens-day-with-thandi-gqiba/
LOCATION:Selective Live\, 189 Buitengragt\, Cape Town\, 8001\, South Africa
END:VEVENT
END:VCALENDAR