BEGIN:VCALENDAR
VERSION:2.0
PRODID:-// - ECPv6.15.20//NONSGML v1.0//EN
CALSCALE:GREGORIAN
METHOD:PUBLISH
X-ORIGINAL-URL:https://selectivecity.co.za
X-WR-CALDESC:Events for 
REFRESH-INTERVAL;VALUE=DURATION:PT1H
X-Robots-Tag:noindex
X-PUBLISHED-TTL:PT1H
BEGIN:VTIMEZONE
TZID:UTC
BEGIN:STANDARD
TZOFFSETFROM:+0000
TZOFFSETTO:+0000
TZNAME:UTC
DTSTART:20230101T000000
END:STANDARD
END:VTIMEZONE
BEGIN:VEVENT
DTSTART;TZID=UTC:20240803T150000
DTEND;TZID=UTC:20240803T180000
DTSTAMP:20260423T182559
CREATED:20240730T200949Z
LAST-MODIFIED:20240730T200952Z
UID:1499-1722697200-1722708000@selectivecity.co.za
SUMMARY:Siya Klaasen at Selective Live
DESCRIPTION:This is Siyabulela Klaasen Born and raised in South Africa (Cape Town) Guguletu\, Siyabulela better known as “Siya” discovered his music gift at a young age where his music foundation was gospel. and he took up classical and jazz as his primary love\, serenading his audience with his soulful warm tone. \n\n\n\nHe embarked on a journey studying piano and voice at (Beau Solei Music School) in Cape Town. His music career started at the age of 17 years old when he first travelled and performed at United Kingdom for the Salisbury Festival which got nominated and won the “Most Inspirational Film” in 2008\, he continued to travel United Kingdom Cardiff\, London\, Salisbury & France over the years together with his group Fezeka Voices\, he went further performing at the Pre- International Jazz Festival in Cape Town\, Up The Creek Festival\, Opening Of Parliament “State Of The Nation Address” to mention a few. His been working in Spain for 6 years in Menorca\, Fuerteventura\, Lanzarote. Currently working in Mallorca for (Sa Minut Band) company singing and playing piano all over the Island. He has been gaining all the experiences in edifying sharpening his career. Siyabulela has discovered his style of diversifying his passion across all genres. \n\n\n\nContinuing to inspire young musicians from disadvantaged background\, teaching music has become one of Siyabulela’s most enjoyable hobbies. As Siyabulela’s tenacity is undoubtedly unstoppable\, he continues to evoke a sense of serenity in musically welcoming hearts. \n\n\n\nDoors open at 3pm and show starts at 4pm
URL:https://selectivecity.co.za/event/siya-klaasen-at-selective-live/
LOCATION:Selective Live\, 189 Buitengragt\, Cape Town\, 8001\, South Africa
END:VEVENT
BEGIN:VEVENT
DTSTART;TZID=UTC:20240803T190000
DTEND;TZID=UTC:20240804T020000
DTSTAMP:20260423T182559
CREATED:20240730T201407Z
LAST-MODIFIED:20240730T201411Z
UID:1503-1722711600-1722736800@selectivecity.co.za
SUMMARY:The chill session (deep house party)
DESCRIPTION:The Chill Sessions \n\n\n\nA musical event which caters for the true listeners of all things dope and deep. The Chill Sessions is tailored for the mature party goer in search of exclusive sounds and spaces. Join us this year as we are proud to announce our stellar line up set to uphold this promise. \n\n\n\nSelectas : \n\n\n\nLRNY \n\n\n\nDIMITRI \n\n\n\nCHRIS JAY \n\n\n\nST THOMAS \n\n\n\nVEE_SODEEP \n\n\n\nCHAD JULIES \n\n\n\nLET’S BE FRANKIE
URL:https://selectivecity.co.za/event/the-chill-session-deep-house-party/
LOCATION:Selective Live\, 189 Buitengragt\, Cape Town\, 8001\, South Africa
END:VEVENT
END:VCALENDAR