BEGIN:VCALENDAR
VERSION:2.0
PRODID:-// - ECPv6.15.20//NONSGML v1.0//EN
CALSCALE:GREGORIAN
METHOD:PUBLISH
X-ORIGINAL-URL:https://selectivecity.co.za
X-WR-CALDESC:Events for 
REFRESH-INTERVAL;VALUE=DURATION:PT1H
X-Robots-Tag:noindex
X-PUBLISHED-TTL:PT1H
BEGIN:VTIMEZONE
TZID:UTC
BEGIN:STANDARD
TZOFFSETFROM:+0000
TZOFFSETTO:+0000
TZNAME:UTC
DTSTART:20230101T000000
END:STANDARD
END:VTIMEZONE
BEGIN:VEVENT
DTSTART;TZID=UTC:20240801T190000
DTEND;TZID=UTC:20240801T230000
DTSTAMP:20260423T182654
CREATED:20240730T154410Z
LAST-MODIFIED:20240730T154413Z
UID:1485-1722538800-1722553200@selectivecity.co.za
SUMMARY:Jam session with 135 music
DESCRIPTION:Jam session with 135 music .. selective hearing DJs!!!! Free entry!! bring own instrument . #jamsession #freeentry
URL:https://selectivecity.co.za/event/jam-session-with-135-music/
LOCATION:Selective Live\, 189 Buitengragt\, Cape Town\, 8001\, South Africa
END:VEVENT
END:VCALENDAR