BEGIN:VCALENDAR
VERSION:2.0
PRODID:-// - ECPv6.15.20//NONSGML v1.0//EN
CALSCALE:GREGORIAN
METHOD:PUBLISH
X-ORIGINAL-URL:https://selectivecity.co.za
X-WR-CALDESC:Events for 
REFRESH-INTERVAL;VALUE=DURATION:PT1H
X-Robots-Tag:noindex
X-PUBLISHED-TTL:PT1H
BEGIN:VTIMEZONE
TZID:UTC
BEGIN:STANDARD
TZOFFSETFROM:+0000
TZOFFSETTO:+0000
TZNAME:UTC
DTSTART:20230101T000000
END:STANDARD
END:VTIMEZONE
BEGIN:VEVENT
DTSTART;TZID=UTC:20240731T190000
DTEND;TZID=UTC:20240731T230000
DTSTAMP:20260423T183458
CREATED:20240730T140450Z
LAST-MODIFIED:20240730T140453Z
UID:1479-1722452400-1722466800@selectivecity.co.za
SUMMARY:Bongani Nikelo ft Umlilo band
DESCRIPTION:Umlilo is an Afro Jazz Band formed in 2001 in Nyanga township and it consist of six members from Gugulethu\, Nyanga and is lead by Bongani Nikelo. \n\n\n\nBongani Nikelo on bass and vocal \n\n\n\nband tbc \n\n\n\nDoors open at 5pm and show starts at 8pm \n\n\n\ninfo@selectivehearing.co.za
URL:https://selectivecity.co.za/event/bongani-nikelo-ft-umlilo-band/
LOCATION:Selective Live\, 189 Buitengragt\, Cape Town\, 8001\, South Africa
END:VEVENT
END:VCALENDAR