BEGIN:VCALENDAR
VERSION:2.0
PRODID:-// - ECPv6.15.20//NONSGML v1.0//EN
CALSCALE:GREGORIAN
METHOD:PUBLISH
X-ORIGINAL-URL:https://selectivecity.co.za
X-WR-CALDESC:Events for 
REFRESH-INTERVAL;VALUE=DURATION:PT1H
X-Robots-Tag:noindex
X-PUBLISHED-TTL:PT1H
BEGIN:VTIMEZONE
TZID:UTC
BEGIN:STANDARD
TZOFFSETFROM:+0000
TZOFFSETTO:+0000
TZNAME:UTC
DTSTART:20230101T000000
END:STANDARD
END:VTIMEZONE
BEGIN:VEVENT
DTSTART;TZID=UTC:20240718T190000
DTEND;TZID=UTC:20240719T020000
DTSTAMP:20260423T183416
CREATED:20240709T092057Z
LAST-MODIFIED:20240709T100158Z
UID:1423-1721329200-1721354400@selectivecity.co.za
SUMMARY:Bumbuntu Presents Nkele & Hlombe
DESCRIPTION:BUMBUNTU Proudly presents the performance of local artists NkeleDee and Hlombe. \n\n\n\nDate: Thursday 18th of July 2024 (Mandela Day)Time: 19:00 – 22:30hLocation: Selective Live\, 189 Buitengracht St\, Gardens \n\n\n\nGet your early bird tickets now at ZAR100We will serve braai platters before the event for ZAR150Combo ticket (ticket + braai platter) 250 ZARDoor Sales ZAR 150 \n\n\n\nABOUT THE ARTISTSNkeleDeeDikeledi Machaca is a soulful vocalist from Eastern Cape\, Matatiele who began her melodic journey at age 5. Her move to Cape Town in 2013 led her to the AFM Church worship team and the Youth Movement (YOGIM). She continued to collaborate with various artists like Ayanda Ntanzi and Siwaphiwe Kweyama. Now it’s time to give her the stage she deserves. Get ready to be swept away by her soulful voice and infectious energy! \n\n\n\nHlombeHlombe is a 25-year-old multidisciplinary artist known for her captivating Afro Soul and African Jazz music. Hlombe’s musical journey began in her primary school choir\, and her passion has only grown since then. In 2015\, she joined the Rainbow Arts Organisation\, where she honed her skills in music composition and theatre. Hlombe believes that her music is a gift from her ancestors\, a means of communicating with the world. Her songs often reflect her spiritual journey\, reminding us that we are never alone\, even in our moments of feeling lost. Join us for an unforgettable evening of Afro Soul & African Jazz! \n\n\n\nBumbuntu Presents InitiativeDuring a guided tour in Khayelitsha\, we met Xhosa Hippie\, a promising artist\, who shared his journey highlighting the challenges he faces in acquiring the necessary resources for his music career. Touched by his story\, the Bumbuntu team has decided to rally behind Thulani and other artists and dedicate their efforts to creating music nights to help them fundraise for the equipment and resources they need to flourish in the music scene. Bumbuntu is dedicated to providing a platform for emerging artists to showcase their talents\, creating a vibrant space where music truly comes to life. Tickets are priced at ZAR100\, and the revenue from ticket sales goes directly to the artists. \n\n\n\nHow You Can ContributeWe invite you to be part of this meaningful initiative. Your presence at Bumbuntu Presents will not only guarantee you a night of incredible music but will also contribute to the musicians’ journeys and support them to grow their presence in the music industry. \n\n\n\nLet’s come together for a night of soulful melodies\, positive vibes\, and the joy of supporting local talent. See you at Selective Live where music comes alive! \n\n\n\nInstagram.com/bumbuntu | Bumbuntu.com
URL:https://selectivecity.co.za/event/bumbuntu-presents-nkele-hlombe/
LOCATION:Selective Live\, 189 Buitengragt\, Cape Town\, 8001\, South Africa
CATEGORIES:Party
END:VEVENT
END:VCALENDAR