BEGIN:VCALENDAR
VERSION:2.0
PRODID:-// - ECPv6.15.20//NONSGML v1.0//EN
CALSCALE:GREGORIAN
METHOD:PUBLISH
X-ORIGINAL-URL:https://selectivecity.co.za
X-WR-CALDESC:Events for 
REFRESH-INTERVAL;VALUE=DURATION:PT1H
X-Robots-Tag:noindex
X-PUBLISHED-TTL:PT1H
BEGIN:VTIMEZONE
TZID:UTC
BEGIN:STANDARD
TZOFFSETFROM:+0000
TZOFFSETTO:+0000
TZNAME:UTC
DTSTART:20230101T000000
END:STANDARD
END:VTIMEZONE
BEGIN:VEVENT
DTSTART;TZID=UTC:20240714T190000
DTEND;TZID=UTC:20240714T220000
DTSTAMP:20260423T185243
CREATED:20240709T083312Z
LAST-MODIFIED:20240709T083357Z
UID:1414-1720983600-1720994400@selectivecity.co.za
SUMMARY:Madala Kunene at Selective Live
DESCRIPTION:Affectionately known as Madala Kunene\, a world-renowned guitarist\, he was recognised by the University for his outstanding contribution to the South African music industry. He decided he wanted to be a musician early in life and fashioned his own guitar from a cooking oil tin and strings made from fishing line. \n\n\n\nIn his acceptance address presented in isiZulu\, Kunene expressed gratitude to the University for his musical recognition. He also took to the stage to perform one of his songs that had audiences enthralled. Kunene reflected on his humble beginnings playing the guitar with friends in Mkhumbane\, Durban\, in the 1950s. Despite the challenges they faced as artists\, including poverty and oppression\, they persevered and contributed to South African music. \n\n\n\nKunene encouraged graduates to pursue their dreams\, despite obstacles\, and to make meaningful contributions to society. He said\, ‘As your journey starts today\, it is important to know who you are\, and to truly follow what is your gift. We are not only studying for ourselves\, but we are studying to improve society. \n\n\n\nTurning professional in the 1970s\, Kunene has shared the stage with great musicians including Doc Mthalane\, Songamasu\, Shor Philips\, Mankunku Ngozi and Busi Mhlongo. \n\n\n\nKunene started recording music in the 1990s and in 1995 released an album Madamax with Swiss guitarist and songwriter Max Lasser. He later released King of the Zulu Guitar – Vol. 1\, which sold well overseas and was a SAMA-nominated album. \n\n\n\nIn 2004\, he composed the score for the feature film Yesterday\, while in 2014\, he collaborated with various local and international artists to produce: Madala Kunene – BAFO the Mentor\, The Forest Jam Sessions\, Vol. 3. \n\n\n\nReleased in 2015\, the album 1959\, featured musical giants including Lu Dlamini\, Hugh Masekela\, Sthembiso Hlela\, Max Lasser\, Vishen Kemraj\, Sazi Dlamini. \n\n\n\nThe Centre for Jazz and Popular Music is proud to host a musical celebration of Dr Madala Kunene in acknowledging this historic occasion\, his long and invaluable association with UKZN\, and his central role as a musician and cultural icon in our community. Dr Madala Kunene will be joined by Lu Dlamini\, Vishen Kemraj and Bab Themba Mokoena.
URL:https://selectivecity.co.za/event/madala-kunene-at-selective-live/
LOCATION:Selective Live\, 189 Buitengragt\, Cape Town\, 8001\, South Africa
END:VEVENT
END:VCALENDAR