BEGIN:VCALENDAR
VERSION:2.0
PRODID:-// - ECPv6.15.20//NONSGML v1.0//EN
CALSCALE:GREGORIAN
METHOD:PUBLISH
X-ORIGINAL-URL:https://selectivecity.co.za
X-WR-CALDESC:Events for 
REFRESH-INTERVAL;VALUE=DURATION:PT1H
X-Robots-Tag:noindex
X-PUBLISHED-TTL:PT1H
BEGIN:VTIMEZONE
TZID:UTC
BEGIN:STANDARD
TZOFFSETFROM:+0000
TZOFFSETTO:+0000
TZNAME:UTC
DTSTART:20230101T000000
END:STANDARD
END:VTIMEZONE
BEGIN:VEVENT
DTSTART;TZID=UTC:20240711T190000
DTEND;TZID=UTC:20240711T230000
DTSTAMP:20260423T183519
CREATED:20240708T223715Z
LAST-MODIFIED:20240730T203604Z
UID:1406-1720724400-1720738800@selectivecity.co.za
SUMMARY:UmuthiOmkhulu ensemble at Selective Live vol3
DESCRIPTION:Mthimkhulu Stuurman is a South African based Trombonist with over 4 years’ experience in African Spiritual Jazz. He was influenced by Dr Johnny Mekoa who introduced him to Jazz Music and was later inspired by Malcolm Jiyane. Mthimkhulu’s love for African Spiritual Jazz is from his belief in Ancestors. He has worked with majority of South African and International Musicians\, including: \n\n\n\nDr Johnny Mekoa (RSA)\, Prince Lengoasa (RSA)\, Mthunzi Mvubu (RSA)\, The Spam All Stars (USA)\, \n\n\n\nThe Temptations (USA) Luyolo Lenga (RSA) Dj Ed Noodles (EUR)\, Imbewu Marimba \n\n\n\nCommunity Ensemble (RSA) and The Amazing Thailand Band\, Koh Mr Saxman (Thailand).
URL:https://selectivecity.co.za/event/mthiomkhulu-ensemble-at-selective-live-vol2/
LOCATION:Selective Live\, 189 Buitengragt\, Cape Town\, 8001\, South Africa
END:VEVENT
END:VCALENDAR