BEGIN:VCALENDAR
VERSION:2.0
PRODID:-// - ECPv6.15.20//NONSGML v1.0//EN
CALSCALE:GREGORIAN
METHOD:PUBLISH
X-ORIGINAL-URL:https://selectivecity.co.za
X-WR-CALDESC:Events for 
REFRESH-INTERVAL;VALUE=DURATION:PT1H
X-Robots-Tag:noindex
X-PUBLISHED-TTL:PT1H
BEGIN:VTIMEZONE
TZID:UTC
BEGIN:STANDARD
TZOFFSETFROM:+0000
TZOFFSETTO:+0000
TZNAME:UTC
DTSTART:20230101T000000
END:STANDARD
END:VTIMEZONE
BEGIN:VEVENT
DTSTART;TZID=UTC:20240705T180000
DTEND;TZID=UTC:20240706T020000
DTSTAMP:20260423T183458
CREATED:20240702T092928Z
LAST-MODIFIED:20240702T092931Z
UID:1377-1720202400-1720231200@selectivecity.co.za
SUMMARY:Still standing album launch Party
DESCRIPTION:Veteran hip hoppers and long-time collaborators DJ Eazy and Jerome Rex are celebrating the release of their first album as a duo. \n\n\n\nThe project is part compilation (all the songs they’ve previously appeared on together are finally on one album) while the other half is made up of all new music. Jerome is the emcee laying down the raps and Eazy touches every track either through his music production or turntablism skills. \n\n\n\nThe sound is contemporary classicist hip hop in the style of groups like Little Brother and Grxwn Fxlks\, with strong influences of early Cape Town hip hop groups like Black Noise and Prophets of da City. \n\n\n\nBorn from the uncertainty of the pandemic lockdown\, Still Standing is a statement of defiance and a declaration of intent – we’ve survived and we’re not going anywhere. \n\n\n\nThis release party is led by DJ Eazy and Jerome Rex\, and backed by a four-piece band: Michael Thompson on keys and talkbox\, Bradrock on drums\, Eddy Strings on guitar and Robin Thompson on bass guitar.
URL:https://selectivecity.co.za/event/still-standing-album-launch-party/
LOCATION:Selective Live\, 189 Buitengragt\, Cape Town\, 8001\, South Africa
END:VEVENT
END:VCALENDAR