BEGIN:VCALENDAR
VERSION:2.0
PRODID:-// - ECPv6.15.20//NONSGML v1.0//EN
CALSCALE:GREGORIAN
METHOD:PUBLISH
X-ORIGINAL-URL:https://selectivecity.co.za
X-WR-CALDESC:Events for 
REFRESH-INTERVAL;VALUE=DURATION:PT1H
X-Robots-Tag:noindex
X-PUBLISHED-TTL:PT1H
BEGIN:VTIMEZONE
TZID:UTC
BEGIN:STANDARD
TZOFFSETFROM:+0000
TZOFFSETTO:+0000
TZNAME:UTC
DTSTART:20230101T000000
END:STANDARD
END:VTIMEZONE
BEGIN:VEVENT
DTSTART;TZID=UTC:20240622T200000
DTEND;TZID=UTC:20240622T230000
DTSTAMP:20260423T215413
CREATED:20240621T112458Z
LAST-MODIFIED:20240621T112502Z
UID:1328-1719086400-1719097200@selectivecity.co.za
SUMMARY:A.Hartland Album Launch.
DESCRIPTION:‘m A.Hartland\, hailing from the vibrant heart of Cape Town.  \n\n\n\nJoin me at Selective Live on the 22nd of June for the release of my 2nd album\, ‘Songs from a Bedouin Tent\, Vol. 2’.  \n\n\n\nAs a singer-songwriter\, composer-producer\, I blend Alternative Country\, Art Rock\, and Retro Folk\, along with storytelling and captivating lyrics to create music for the deep thinkers and feelers.  \n\n\n\nJoin me as I’ll take you through the past 18 months of musical exploration that resulted in my two albums.  \n\n\n\nhttps://linktr.ee/a.hartland \n\n\n\nDoors open at 5pm and show starts at 8pm.
URL:https://selectivecity.co.za/event/a-hartland-album-launch/
LOCATION:Selective Live\, 189 Buitengragt\, Cape Town\, 8001\, South Africa
END:VEVENT
END:VCALENDAR