BEGIN:VCALENDAR
VERSION:2.0
PRODID:-// - ECPv6.15.20//NONSGML v1.0//EN
CALSCALE:GREGORIAN
METHOD:PUBLISH
X-ORIGINAL-URL:https://selectivecity.co.za
X-WR-CALDESC:Events for 
REFRESH-INTERVAL;VALUE=DURATION:PT1H
X-Robots-Tag:noindex
X-PUBLISHED-TTL:PT1H
BEGIN:VTIMEZONE
TZID:UTC
BEGIN:STANDARD
TZOFFSETFROM:+0000
TZOFFSETTO:+0000
TZNAME:UTC
DTSTART:20230101T000000
END:STANDARD
END:VTIMEZONE
BEGIN:VEVENT
DTSTART;TZID=UTC:20240601T180000
DTEND;TZID=UTC:20240602T020000
DTSTAMP:20260423T215254
CREATED:20240521T082454Z
LAST-MODIFIED:20240521T095212Z
UID:1252-1717264800-1717293600@selectivecity.co.za
SUMMARY:Sounds From Mama Africa By Ra Mava & Nyauist Vol12
DESCRIPTION:‘Sounds From Mama Africa’ \n\n\n\n– African sounds\, from ancient to modern\, tribal\, indigenous\, Afro electro\, Afro funk\, Afro trap\, Afro beat\, SA sounds etc \n\n\n\nHost DJs: \n\n\n\nRa Mava & Nyauist  \n\n\n\nDate: 1st June | Saturday|Time: Doors Open at 6 pm | Show Starts – 7pm |Venue: Selective live| \n\n\n\nNB…. Loadshedding Does not affect our events in any way!! (Generator On Site)
URL:https://selectivecity.co.za/event/sounds-from-mama-africa-by-ra-mava-nyauist-vol12/
LOCATION:Selective Live\, 189 Buitengragt\, Cape Town\, 8001\, South Africa
END:VEVENT
END:VCALENDAR