BEGIN:VCALENDAR
VERSION:2.0
PRODID:-// - ECPv6.15.20//NONSGML v1.0//EN
CALSCALE:GREGORIAN
METHOD:PUBLISH
X-ORIGINAL-URL:https://selectivecity.co.za
X-WR-CALDESC:Events for 
REFRESH-INTERVAL;VALUE=DURATION:PT1H
X-Robots-Tag:noindex
X-PUBLISHED-TTL:PT1H
BEGIN:VTIMEZONE
TZID:UTC
BEGIN:STANDARD
TZOFFSETFROM:+0000
TZOFFSETTO:+0000
TZNAME:UTC
DTSTART:20230101T000000
END:STANDARD
END:VTIMEZONE
BEGIN:VEVENT
DTSTART;TZID=UTC:20240526T170000
DTEND;TZID=UTC:20240526T230000
DTSTAMP:20260424T021958
CREATED:20240524T085526Z
LAST-MODIFIED:20240524T085531Z
UID:1287-1716742800-1716764400@selectivecity.co.za
SUMMARY:Auriol Hays 8th Album Launch At Selective Live
DESCRIPTION:he has the knack to astound\, and quite often her sound defies categorization’. Zakes Mda \n\n\n\nWith seven albums under her belt she effortlessly manages to deliver iconic \n\n\n\nsongs from each musical offering. In June 2019\, Ms Hays opened for triple \n\n\n\naward winning musician and producer Ben Harper\, and in 2021 was the \n\n\n\nonly South African artist chosen to be part of the Commonwealth of \n\n\n\nLearning Virtual Celebrations\, focused in addressing increasing \n\n\n\ninequalities. Ms Hays was chosen as one of 12 artists\, to participate in the \n\n\n\nTankwa Artscape residency in the desert in March 2022. Her 7th album Silk \n\n\n\nand Gravel was sponsored by SAMPRA and her 8th and 9th \n\n\n\n\, After Dusk and Fool’s Gold will be released at the end October funded by SAMRO. She also \n\n\n\nparticipated in the Plettenberg Land Art Festival in September 2023. \n\n\n\nTurn Up the Volume and Take it Slow were the two chart topping tracks off \n\n\n\nher debut album Behind Closed Doors. A Better Man from her deeply \n\n\n\nintimate Call It Love Anima Sola sophomore release. Her Deep Hays album\, \n\n\n\ncollaboration with Rowick Deep\, delivered two unforgettable songs that \n\n\n\ncan still be heard on the dance floors\, Deeper Than the Ocean and Rhythm \n\n\n\nSublime. Dreaming Music was no different. She astounded her audience \n\n\n\nwith her own rendition of Sipho Hotstix Mabuse’s “Burn Out\, thereby \n\n\n\nmaking the song entirely her own. “Child Atone”\, featuring Riaan Smit from \n\n\n\nCrimson House Blues contained\, as Zakes Mda said\, ‘resonances of the \n\n\n\nAmerican Deep South of slavery and Uncle Tom\, of tamed field hollers and \n\n\n\nceremonial chants. Auriol’s blues vocals here will surely wake Ma Rainey \n\n\n\nfrom her grave.’ \n\n\n\nMs Hays is no mere jazz singer. She is a musical storyteller\, a sonorous shaman\, a songwriter above all else whose musical and emotive range is influenced by a plethora of sounds. And all her music rendered is done so in a voice entirely and completely her own. She released various singles from her fifth musical release\, TENtation\, in 2018\, and gave audiences a taste of her new material during an intimate performance in 2023 at Selective Live. \n\n\n\nDoors Open at 5pm and show starts at 8pm.
URL:https://selectivecity.co.za/event/auriol-hays-8th-album-launch-at-selective-live-2/
LOCATION:Selective Live\, 189 Buitengragt\, Cape Town\, 8001\, South Africa
END:VEVENT
END:VCALENDAR