BEGIN:VCALENDAR
VERSION:2.0
PRODID:-// - ECPv6.15.20//NONSGML v1.0//EN
CALSCALE:GREGORIAN
METHOD:PUBLISH
X-ORIGINAL-URL:https://selectivecity.co.za
X-WR-CALDESC:Events for 
REFRESH-INTERVAL;VALUE=DURATION:PT1H
X-Robots-Tag:noindex
X-PUBLISHED-TTL:PT1H
BEGIN:VTIMEZONE
TZID:UTC
BEGIN:STANDARD
TZOFFSETFROM:+0000
TZOFFSETTO:+0000
TZNAME:UTC
DTSTART:20230101T000000
END:STANDARD
END:VTIMEZONE
BEGIN:VEVENT
DTSTART;TZID=UTC:20240426T180000
DTEND;TZID=UTC:20240427T190000
DTSTAMP:20260425T224358
CREATED:20240426T154359Z
LAST-MODIFIED:20240425T175335Z
UID:1010-1714154400-1714244400@selectivecity.co.za
SUMMARY:Johnny Filter I’m Grown Birthday Bash
DESCRIPTION:AFTER 40 TRIPS AROUND THE SUN\, IT’S TIME TO CELEBRATE LIFE IN THE WAY WE DO BEST. EXPECT AN EXPERIENCE THAT’LL LEAVE YOUR NECK SNAPPED AS YOUR FACE PULLS THE NASTIEST STANK FACE TO THE \n\n\n\nSOUNDS OF A HIP HOP LINE UP SO FIRE\, YOU MIGHT NOT NEVER BE THE SAME AGAIN – ACTUALLY WE GUARANTEE IT. \n\n\n\nIF YOU’RE READING THIS\, CONSIDER YOURSELF LUCKY. WE’VE LEFT THE LIKES OF DRAKE and BUSTIN JEBER on BLUE-TICKs TO ORGANIZE THIS HERE GATHERING. \n\n\n\nJOKES ASIDE. WE’VE BEEN BLESSED WITH A HIP HOP LINE UP SO BUTTER\, SO DOWNRIGHT DELICIOUS\, WE’RE FEELING BLESSED AND WANT TO SHARE THE LOVE. \n\n\n\nSELECTIVE LIVE HAS BEEN GRACIOUS ENOUGH TO HOST SOUTH AFRICAN BORN JOHNNY FILTER’S BIRTHDAY. A MUCH-ANTICPATED RETURN TO CELEBRATE HIS \n\n\n\n40TH BIRTHDAY ON HOME TURF IN THE MOTHER OF ALL CITIES… THE CAPE COAST! \n\n\n\nLEAVE YOUR PRETENSE\, YOUR JUDGEMENT AND YOUR NEGATIVITY AT CRIBS\, BECAUSE THIS IS A ‘FROM THE SOUF’ AFFAIR. IT’S ALL PEACE\, LOVE AND GOOD MUSIC WHEN YOU \n\n\n\nENTER THIS SPACE. \n\n\n\nSOUF SIDE! \n\n\n\nLine up Times to be confirmed
URL:https://selectivecity.co.za/event/johnny-filter-im-grown-birthday-bash/
LOCATION:Selective Live\, 189 Buitengragt\, Cape Town\, 8001\, South Africa
END:VEVENT
END:VCALENDAR